BEGIN:VCALENDAR
VERSION:2.0
PRODID:-//ChamberMaster//Event Calendar 2.0//EN
METHOD:PUBLISH
X-PUBLISHED-TTL:P3D
REFRESH-INTERVAL:P3D
CALSCALE:GREGORIAN
BEGIN:VEVENT
DTSTART:20191102T200000Z
DTEND:20191102T210000Z
X-MICROSOFT-CDO-ALLDAYEVENT:FALSE
SUMMARY:150th Anniversary of the Founding of Livermore
DESCRIPTION:Celebrating the 150th anniversary of the founding of Livermore & dedication of the William Mendenhall Community Room.\n\n\n\nGuests are invited to tour the new facility.  Light refreshments will be served.
X-ALT-DESC;FMTTYPE=text/html:Celebrating the 150th anniversary of the founding of Livermore &amp\; dedication of the William Mendenhall Community Room.<br />\n<br />\nGuests are invited to tour the new facility.&nbsp\; Light refreshments will be served.
LOCATION:Civic Center Meeting Hall 1016 S. Livermore Avenue
UID:e.3178.2881
SEQUENCE:3
DTSTAMP:20260424T050630Z
URL:https://business.livermorechamber.org/events/details/150th-anniversary-of-the-founding-of-livermore-2881
END:VEVENT

END:VCALENDAR
