BEGIN:VCALENDAR
VERSION:2.0
PRODID:-//ChamberMaster//Event Calendar 2.0//EN
METHOD:PUBLISH
X-PUBLISHED-TTL:P3D
REFRESH-INTERVAL:P3D
CALSCALE:GREGORIAN
BEGIN:VEVENT
DTSTART:20250914T030000Z
DTEND:20250914T050000Z
X-MICROSOFT-CDO-ALLDAYEVENT:FALSE
SUMMARY:90s Mix Tape Live
DESCRIPTION:Nostalgic. Tribute. The 90s.\n\nRemember the thrill of going to the record store and tearing the plastic off a brand new CD? How about when you listened to the radio hoping to hear the latest hit from Alanis Morissette\, Boys II Men\, Brittany Spears\, Green Day\, Nirvana\, En Vogue\, or NSYNC? We've got all those .and more.\n\nWith a lineup of four Broadway vocalists putting their own spin on "Smells like Teen Spirit" and "I Will Always Love You" to name a few this show is a nothing but the biggest bops of the decade. Put on your Doc Martens and get ready for a bangin' night out.
X-ALT-DESC;FMTTYPE=text/html:<div style="margin-left:auto\; margin-right:auto">\n<div>\n<div>\n<div>\n<div>\n<p><span style="font-size:16px\;"><em>Nostalgic. Tribute. The 90s.</em></span></p>\n\n<p><span style="font-size:16px\;">Remember the thrill of going to the record store and tearing the plastic off a brand new CD? How about when you listened to the radio hoping to hear the latest hit from Alanis Morissette\, Boys II Men\, Brittany Spears\, Green Day\, Nirvana\, En Vogue\, or NSYNC? We&rsquo\;ve got all those&hellip\;.and more.<br />\nWith a lineup of four Broadway vocalists putting their own spin on &ldquo\;Smells like Teen Spirit&rdquo\; and &ldquo\;I Will Always Love You&rdquo\; to name a few&hellip\;this show is a nothing but the biggest bops of the decade. Put on your Doc Martens and get ready for a bangin&rsquo\; night out.</span></p>\n</div>\n</div>\n</div>\n</div>\n</div>\n
LOCATION:Bankhead Theater 2400 1st St.\, Livermore\, CA 94550
UID:e.3178.6946
SEQUENCE:3
DTSTAMP:20260421T113052Z
URL:https://business.livermorechamber.org/events/details/90s-mix-tape-live-6946
END:VEVENT

END:VCALENDAR
