BEGIN:VCALENDAR
VERSION:2.0
PRODID:-//ChamberMaster//Event Calendar 2.0//EN
METHOD:PUBLISH
X-PUBLISHED-TTL:P3D
REFRESH-INTERVAL:P3D
CALSCALE:GREGORIAN
BEGIN:VEVENT
DTSTART;VALUE=DATE:20191207
DTEND;VALUE=DATE:20191208
TRANSP:TRANSPARENT
X-MICROSOFT-CDO-ALLDAYEVENT:TRUE
SUMMARY:ACE Train to Holidays in the Vineyards
DESCRIPTION:Ride the ACE Train to Holidays in the Vineyards on Saturday\, December 7.\n\n\n\nFor assistance with your trip or to schedule a group\, contact Rene Gutierrez - 209-649-6917/rene@acerail.com
X-ALT-DESC;FMTTYPE=text/html:Ride the ACE Train to Holidays in the Vineyards on Saturday\, December 7.<br />\n<br />\nFor assistance with your trip or to schedule a group\, contact Rene Gutierrez - 209-649-6917/rene@acerail.com
LOCATION:ACE Train Fare Information and Schedules HERE Holidays in the Vineyards Participating Wineries HERE
UID:e.3178.2895
SEQUENCE:3
DTSTAMP:20260424T034313Z
URL:https://business.livermorechamber.org/events/details/ace-train-to-holidays-in-the-vineyards-2895
END:VEVENT

END:VCALENDAR
