BEGIN:VCALENDAR
VERSION:2.0
PRODID:-//ChamberMaster//Event Calendar 2.0//EN
METHOD:PUBLISH
X-PUBLISHED-TTL:P3D
REFRESH-INTERVAL:P3D
CALSCALE:GREGORIAN
BEGIN:VEVENT
DTSTART:20181220T011500Z
DTEND:20181220T031500Z
X-MICROSOFT-CDO-ALLDAYEVENT:FALSE
SUMMARY:After Hours Business Mixer - Heritage Bank of Commerce
DESCRIPTION:Chamber members host an open house at their business\, inviting attendees to a first-hand view of their facilities\, products and services.  This is networking at its best with entertainment\, food and beverages.\n\nFormerly Tri-Valley Bank\, come check out Heritage Bank of Commerce\, and see what they have to offer!\n\nBring a drawing prize and get a minute of fame! Take the microphone\, and share some news about your business.
X-ALT-DESC;FMTTYPE=text/html:<p>Chamber members host an open house at their business\, inviting attendees to a first-hand view of their facilities\, products and services.&nbsp\; This is networking at its best with entertainment\, food and beverages.</p>\n\n<p>Formerly Tri-Valley Bank\, come check out Heritage Bank of Commerce\, and see what they have to offer!</p>\n\n<p>Bring a drawing prize and get a minute of fame! Take the microphone\, and share some news about your business.</p>\n
LOCATION:Heritage Bank of Commerce 1987 First Street (map) Livermore
UID:e.3178.101
SEQUENCE:3
DTSTAMP:20260424T223700Z
URL:https://business.livermorechamber.org/events/details/after-hours-business-mixer-heritage-bank-of-commerce-101
END:VEVENT

END:VCALENDAR
