BEGIN:VCALENDAR
VERSION:2.0
PRODID:-//ChamberMaster//Event Calendar 2.0//EN
METHOD:PUBLISH
X-PUBLISHED-TTL:P3D
REFRESH-INTERVAL:P3D
CALSCALE:GREGORIAN
BEGIN:VEVENT
DTSTART:20220420T233000Z
DTEND:20220421T013000Z
X-MICROSOFT-CDO-ALLDAYEVENT:FALSE
SUMMARY:After Hours Business Mixer - Livermore Stockmen's Rodeo Assn. and Livermore Rodeo Fdn.
DESCRIPTION:See you in person for some boot scootin fun!\n\n\n\nChamber members host an open house at their business\, inviting attendees to a first-hand view of their facilities\, products and services.  This is networking at its best - with entertainment\, food and beverages.\n\n\n\nDon't miss this annual favorite!
X-ALT-DESC;FMTTYPE=text/html:<span style="font-size:14px\;"><span style="font-family:verdana\;">See you in person for some boot scootin fun!<br />\n<br />\nChamber members host an open house at their business\, inviting attendees to a first-hand view of their facilities\, products and services.&nbsp\; This is networking at its best - with entertainment\, food and beverages.<br />\n<br />\nDon&#39\;t miss this annual favorite!</span></span>
LOCATION:Livermore Rodeo Grounds 3000 Robertson Park Road Livermore\, CA 94550
UID:e.3178.4525
SEQUENCE:3
DTSTAMP:20260421T163013Z
URL:https://business.livermorechamber.org/events/details/after-hours-business-mixer-livermore-stockmen-s-rodeo-assn-and-livermore-rodeo-fdn-4525
END:VEVENT

END:VCALENDAR
