BEGIN:VCALENDAR
VERSION:2.0
PRODID:-//ChamberMaster//Event Calendar 2.0//EN
METHOD:PUBLISH
X-PUBLISHED-TTL:P3D
REFRESH-INTERVAL:P3D
CALSCALE:GREGORIAN
BEGIN:VEVENT
DTSTART:20190221T011500Z
DTEND:20190221T031500Z
X-MICROSOFT-CDO-ALLDAYEVENT:FALSE
SUMMARY:After Hours Business Mixer - Livermore Valley Performing Arts Center
DESCRIPTION:Chamber members  host an open house at their business\, inviting attendees to a first-hand view of their facilities\, products and services.  This is networking at its best - with entertainment\, food and beverages.
X-ALT-DESC;FMTTYPE=text/html:Chamber members&nbsp\; host an open house at their business\, inviting attendees to a first-hand view of their facilities\, products and services.&nbsp\; This is networking at its best - with entertainment\, food and beverages.<br />\n&nbsp\;&nbsp\;
LOCATION:Livermore Valley Performing Arts Center Bankhead Theater 2400 First St. Livermore\, CA 94551
UID:e.3178.2089
SEQUENCE:3
DTSTAMP:20260424T190218Z
URL:https://business.livermorechamber.org/events/details/after-hours-business-mixer-livermore-valley-performing-arts-center-2089
END:VEVENT

END:VCALENDAR
