BEGIN:VCALENDAR
VERSION:2.0
PRODID:-//ChamberMaster//Event Calendar 2.0//EN
METHOD:PUBLISH
X-PUBLISHED-TTL:P3D
REFRESH-INTERVAL:P3D
CALSCALE:GREGORIAN
BEGIN:VEVENT
DTSTART:20220607T160000Z
DTEND:20220607T170000Z
X-MICROSOFT-CDO-ALLDAYEVENT:FALSE
SUMMARY:Ambassador Club Meeting
DESCRIPTION:Ambassadors are the goodwill arm of Livermore Valley Chamber of Commerce and the business community.  They participate in ribbon cutting ceremonies\, grand openings and other Chamber events.  Ambassadors act as "special greeters" at the Chamber's many activities and they are responsible for introducing and welcoming new members.\n\n\n\nChair:  Heidi Rasmussen\, Concannon Vineyard\n\nCo-Chair:  Sheila Fagliano\, Livermore Sanitation\, Inc.
X-ALT-DESC;FMTTYPE=text/html:<span style="font-size:14px\;">Ambassadors are the goodwill arm of Livermore Valley Chamber of Commerce and the business community.&nbsp\; They participate in ribbon cutting ceremonies\, grand openings and other Chamber events.&nbsp\; Ambassadors act as &quot\;special greeters&quot\; at the Chamber&#39\;s many activities and they are responsible for introducing and welcoming new members.<br />\n<br />\nChair:&nbsp\; Heidi Rasmussen\, <a href="https://www.concannonvineyard.com/">Concannon Vineyard</a><br />\nCo-Chair:&nbsp\; Sheila Fagliano\, <a href="https://www.livermoresanitation.com/">Livermore Sanitation\, Inc.</a></span>
LOCATION:
UID:e.3178.4467
SEQUENCE:3
DTSTAMP:20260421T132148Z
URL:https://business.livermorechamber.org/events/details/ambassador-club-meeting-06-07-2022-4467
END:VEVENT

END:VCALENDAR
