BEGIN:VCALENDAR
VERSION:2.0
PRODID:-//ChamberMaster//Event Calendar 2.0//EN
METHOD:PUBLISH
X-PUBLISHED-TTL:P3D
REFRESH-INTERVAL:P3D
CALSCALE:GREGORIAN
BEGIN:VEVENT
DTSTART:20200718T180000Z
DTEND:20200719T230000Z
X-MICROSOFT-CDO-ALLDAYEVENT:FALSE
SUMMARY:Art Under the Oaks - Canceled (Virtual Event Available)
DESCRIPTION:We have decided to cancel our annual Art Under the Oaks in July for this year. We are sad not to be able to bring everyone together to enjoy art\, wine\, food & friends! In an effort to support our artists\, we will be holding a "virtual" Art Under the Oaks. http://ow.ly/man650A2lCg
X-ALT-DESC;FMTTYPE=text/html:<span style="color:rgb(0\, 0\, 0)\; font-family:open sans\,helvetica neue\,helvetica\,arial\,sans-serif\; font-size:12px">We have decided to cancel our annual Art Under the Oaks in July for this year. We are sad not to be able to bring everyone together to enjoy art\, wine\, food &amp\; friends! In an effort to support our artists\, we will be holding a &quot\;virtual&quot\; Art Under the Oaks. </span><a href="http://ow.ly/man650A2lCg" rel="noopener noreferrer" style="text-decoration-line: none\; color: rgb(47\, 107\, 154)\; cursor: pointer\; outline: none 0px\; font-family: &quot\;Open Sans&quot\;\, &quot\;Helvetica Neue&quot\;\, Helvetica\, Arial\, sans-serif\; font-size: 12px\; white-space: pre-line\;" target="_blank">http://ow.ly/man650A2lCg</a>
LOCATION:Alden Lane Nursery 981 Alden Lane Livermore\, CA 94550
UID:e.3178.2997
SEQUENCE:3
DTSTAMP:20260423T164436Z
URL:https://business.livermorechamber.org/events/details/art-under-the-oaks-07-18-2020-2997
END:VEVENT

END:VCALENDAR
