BEGIN:VCALENDAR
VERSION:2.0
PRODID:-//ChamberMaster//Event Calendar 2.0//EN
METHOD:PUBLISH
X-PUBLISHED-TTL:P3D
REFRESH-INTERVAL:P3D
CALSCALE:GREGORIAN
BEGIN:VEVENT
DTSTART:20200425T190000Z
DTEND:20200425T230000Z
X-MICROSOFT-CDO-ALLDAYEVENT:FALSE
SUMMARY:CANCELLED: Assistance League of Amador Valley Mad Hatter Tea Party
DESCRIPTION:Assistance League of Amador Valley is Having a Tea Party celebrating our 25th year of community service.  The Mad Hatter's Tea will be held on April 25 from noon to four p.m. at the Shrine Event Center\, Livermore.\n\nThe event\, usually a sell-out\, includes charming tables\, each decorated by one of the members of Assistance League\, yummy food\, a Mad Hatter's hat contest\, raffle prizes\, silent auction and more.  The entertainment will be a vintage fashion show by the Goodwill Bag Ladies\, It will be a memorable afternoon with the variety of table decorations\, a variety of hats and seeing the ladies all dressed to the nines.\n\nThe proceeds from this event benefit Assistance League's many philanthropic programs\, including Clothe the Kids\, which enables underserved elementary school children to go shopping and choose school clothes.  Last year 325 children were able to choose $125 worth of Kohls' clothing.  Our Food for Families program purchases food for a local food bank\, spending on average $800 monthly. We also offer vision screening at preschools\, purchase books for school age children\, sponsor seniors' holiday celebrations\, and more.\n\nTickets are $60 each.  You may make reservations for the Mad Hatter's Tea by going online to www.assistanceleague.org/amador-valley.
X-ALT-DESC;FMTTYPE=text/html:<p><span style="font-family:arial">Assistance League of Amador Valley is&nbsp\;</span><span style="font-family:arial">H</span><span style="font-family:arial">aving a Tea Party c</span><span style="font-family:arial">elebrating our 25</span><span style="font-family:arial\; font-size:7px">th</span><span style="font-family:arial">&nbsp\;year of community service. &nbsp\;The Mad Hatter&rsquo\;s Tea will be held on April 25 from noon to four p.m. at the Shrine Event Center\, Livermore.</span></p>\n\n<p><span style="font-family:arial">The event\, usually a sell-out\, includes charming tables\, each decorated by one of the members</span><span style="font-family:arial">&nbsp\;of Assistance League</span><span style="font-family:arial">\, yummy food\, a&nbsp\;</span><span style="font-family:arial">Mad Hatter&rsquo\;s&nbsp\;</span><span style="font-family:arial">hat contest\, raffle prizes\, silent auction and more. &nbsp\;The entertainment will be a vintage fashion show by the Goodwill Bag Ladies\,</span><span style="font-family:arial">&nbsp\;</span><span style="font-family:arial">It</span><span style="font-family:arial">&nbsp\;will be a memorable afternoon with the variety of table decorations\,&nbsp\;</span><span style="font-family:arial">a variety of hats&nbsp\;</span><span style="font-family:arial">and seeing the ladies all dressed to the nines</span><span style="font-family:arial">.</span></p>\n\n<p><span style="font-family:arial">The proceeds from this event benefit Assistance League&rsquo\;s many philanthropic programs\, including Clothe the Kids\, which enables underserved elementary school children to go shopping and choose school clothes. &nbsp\;Last year</span><span style="font-family:arial">&nbsp\;</span><span style="font-family:arial">325&nbsp\;</span><span style="font-family:arial">children were able to choose $125 worth of Kohls&rsquo\; clothing. &nbsp\;Our Food for Families program purchases food for a local food bank</span><span style="font-family:arial">\, spending on average $800 monthly.</span><span style="font-family:arial">&nbsp\;We&nbsp\;</span><span style="font-family:arial">also&nbsp\;</span><span style="font-family:arial">offer vision screening at preschools\, purchase books for school age children\,</span><span style="font-family:arial">&nbsp\;</span><span style="font-family:arial">sponsor seniors&rsquo\; holiday celebrations\, and more.</span></p>\n\n<p><span style="font-family:arial">Tickets are $60 each. &nbsp\;You may m</span><span style="font-family:arial">ake reservations for the Mad Hatter&rsquo\;s&nbsp\;</span><span style="font-family:arial">T</span><span style="font-family:arial">ea by going online to&nbsp\;</span><a href="http://www.assistanceleague.org/amador-valley"><span style="color:rgb(5\, 99\, 193)\; font-family:arial">www.assistanceleague.org/amador-valley</span></a><span style="font-family:arial">.</span><br />\n&nbsp\;</p>\n
LOCATION:Shrine Event Center 170 Lindbergh Avenue Livermore\, CA
UID:e.3178.3046
SEQUENCE:3
DTSTAMP:20260423T214129Z
URL:https://business.livermorechamber.org/events/details/assistance-league-of-amador-valley-mad-hatter-tea-party-3046
END:VEVENT

END:VCALENDAR
