BEGIN:VCALENDAR
VERSION:2.0
PRODID:-//ChamberMaster//Event Calendar 2.0//EN
METHOD:PUBLISH
X-PUBLISHED-TTL:P3D
REFRESH-INTERVAL:P3D
CALSCALE:GREGORIAN
BEGIN:VEVENT
DTSTART:20200330T163000Z
DTEND:20200330T203000Z
X-MICROSOFT-CDO-ALLDAYEVENT:FALSE
SUMMARY:Athena Rising Offering Community Co-Work Drop In Hours
DESCRIPTION:Community Co-Work Drop In Hours is an opportunity for members and non-members to gather in a synergy of inspiring co-working. Would you like to work in a beautiful & luxurious feminine\, supportive environment with other women? Or maybe you just need a break from your home office. We invite you to join us.
X-ALT-DESC;FMTTYPE=text/html:<p>Community Co-Work Drop In Hours is an opportunity for members and non-members to gather in a synergy of inspiring co-working. Would you like to work in a beautiful &amp\; luxurious feminine\, supportive environment with other women? Or maybe you just need a break from your home office. We invite you to join us.<br />\n<br />\n&nbsp\;</p>\n
LOCATION:Athena Rising 4047 First Street\, Suite 101 Livermore\, CA 94550 http://9:30am- 1:30pm COST: $10 Non-members FREE to all Athena Rising members https://www.athenarising.org/events?view=calendar&month=03-2020&category=Co-Work
UID:e.3178.3044
SEQUENCE:3
DTSTAMP:20260423T230833Z
URL:https://business.livermorechamber.org/events/details/athena-rising-offering-community-co-work-drop-in-hours-03-30-2020-3044
END:VEVENT

END:VCALENDAR
