BEGIN:VCALENDAR
VERSION:2.0
PRODID:-//ChamberMaster//Event Calendar 2.0//EN
METHOD:PUBLISH
X-PUBLISHED-TTL:P3D
REFRESH-INTERVAL:P3D
CALSCALE:GREGORIAN
BEGIN:VEVENT
DTSTART:20200311T010000Z
DTEND:20200311T030000Z
X-MICROSOFT-CDO-ALLDAYEVENT:FALSE
SUMMARY:Athena Rising presents Is It Them? Or Is It...Me?! FREE Workshop for Singles
DESCRIPTION:3 Ways to Tell the Difference Between Their Red Flags and Your Unhealed Wounds\n\n\n\n\n\n\nDating can be frustrating\, confusing and complicated! Have you ever "quit" the online scene out of frustration? Then wondered if you were being too picky? Or not picky enough? Then started dating someone and wondered:\n\nAm I settling or compromising?\n\nAm I expressing my needs or being needy? Is this a red flag or am I triggered?\n\nBecoming confident in who you are and what you need\, able to cut through the confusion\, and unapologetically discern and decide\, without making anyone wrong\, what's a fit for YOU\, can make dating A LOT easier.\n\nLearn to trust your inner knowing and crush self doubt with this introspective workshop designed to increase your clarity and confidence around dating and new relationships so you can become magnetic to the perfect partner for you!\n\nHosted By: Kimberly Koste. I'm so excited to convene with other curious beings. I have been fascinated by people's behavior since I was a teenager. Why do we do the things we do\, say the things we say? I earned my M.A. in psychology in 1995\, particularly interested in family dynamics and then relationships in general. I have always known I wanted to help people but it wasn't until I found coaching about 10 years ago that I became confident that actual transformation was possible. There is nothing more rewarding for me than seeing people experience breakthroughs and completely changing the dynamics in their relationships!\n\nBut my own path was riddled with frustration and failure. It wasn't until I transformed me that I became a "coach" in my own right. I know what it takes to have the ah ha's. It's not easy and it helps to have someone standing with you while you "break through" patterns that have held you back\, kept you stuck in anger and resentment and prevented you from having truly happy\, healthy relationships. I stand with and for my clients to find the love and peace that absolutely IS available to them on the other side of transformation.
X-ALT-DESC;FMTTYPE=text/html:<div>\n<div>\n<div>\n<div>\n<div><strong>3 Ways to Tell the Difference Between Their Red Flags and Your Unhealed Wounds</strong></div>\n</div>\n</div>\n</div>\n</div>\n\n<div>\n<p>Dating can be frustrating\, confusing and complicated! Have you ever &quot\;quit&quot\; the online scene out of frustration? Then wondered if you were being too picky? Or not picky enough? Then started dating someone and wondered:</p>\n\n<p>Am I settling or compromising?</p>\n\n<p>Am I expressing my needs or being needy? Is this a red flag or am I triggered?</p>\n\n<p>Becoming confident in who you are and what you need\, able to cut through the confusion\, and unapologetically discern and decide\, without making anyone wrong\, what&#39\;s a fit for YOU\, can make dating A LOT easier.</p>\n\n<p>Learn to trust your inner knowing and crush self doubt with this introspective workshop designed to increase your clarity and confidence around dating and new relationships so you can become magnetic to the perfect partner for you!</p>\n\n<p>Hosted By:&nbsp\;<a href="http://%20http//www.kk-%20coaching.com" rel="nofollow noopener noreferrer" style="color: var(--eds-control\,#3659e3)\; text-decoration-line: none\; cursor: pointer\; background-color: transparent\; padding-top: 0px\;" target="_blank">Kimberly Koste.</a>&nbsp\;I&#39\;m so excited to convene with other curious beings. I have been fascinated by people&#39\;s behavior since I was a teenager. Why do we do the things we do\, say the things we say? I earned my M.A. in psychology in 1995\, particularly interested in family dynamics and then relationships in general. I have always known I wanted to help people but it wasn&#39\;t until I found coaching about 10 years ago that I became confident that actual transformation was possible. There is nothing more rewarding for me than seeing people experience breakthroughs and completely changing the dynamics in their relationships!</p>\n\n<p>But my own path was riddled with frustration and failure. It wasn&#39\;t until I transformed me that I became a &quot\;coach&quot\; in my own right. I know what it takes to have the ah ha&#39\;s. It&#39\;s not easy and it helps to have someone standing with you while you &quot\;break through&quot\; patterns that have held you back\, kept you stuck in anger and resentment and prevented you from having truly happy\, healthy relationships. I stand with and for my clients to find the love and peace that absolutely IS available to them on the other side of transformation.</p>\n\n<p>&nbsp\;</p>\n</div>\n
LOCATION:Athena Rising 4047 First Street\, Suite 101 Livermore\, CA 94551
UID:e.3178.3032
SEQUENCE:3
DTSTAMP:20260423T232333Z
URL:https://business.livermorechamber.org/events/details/athena-rising-presents-is-it-them-or-is-it-me-free-workshop-for-singles-3032
END:VEVENT

END:VCALENDAR
