BEGIN:VCALENDAR
VERSION:2.0
PRODID:-//ChamberMaster//Event Calendar 2.0//EN
METHOD:PUBLISH
X-PUBLISHED-TTL:P3D
REFRESH-INTERVAL:P3D
CALSCALE:GREGORIAN
BEGIN:VEVENT
DTSTART:20200208T220000Z
DTEND:20200209T000000Z
X-MICROSOFT-CDO-ALLDAYEVENT:FALSE
SUMMARY:Athena Rising Presents Oils of Love: Essential Oils for Love\, Trust and Sensuality
DESCRIPTION:Join us as we explore how to use essential oils for love\, trust\, sensuality and more.\n\n\n\n\n\n\n\nAbout this Event\n\n\n\nThink of this as your natural Valentine's Day celebration! There will be an option to make and take essential oil roller bottle blends and custom epsom bath salts.\n\nHOSTED BY: Sarah Richards\, Do TERRA Essential oil expert\, Mom and fitness enthusiast\n\nCOST: Free to Athena Rising members\, $10 non- members.\n\n\n\nRSVP HERE: https://www.athenarising.org/events/2020/2/8/oils-of-love-essential-oils-for-love-trust-and-sensuality\n\nMake and take items available at the event from $2 -10 each
X-ALT-DESC;FMTTYPE=text/html:<div>\n<div>\n<div>\n<div>\n<div><strong>Join us as we explore how to use essential oils for love\, trust\, sensuality and more.</strong></div>\n</div>\n</div>\n</div>\n</div>\n\n<div>\n<div>\n<h2>About this Event</h2>\n\n<div>\n<div>\n<p>Think of this as your natural Valentine&rsquo\;s Day celebration! There will be an option to make and take essential oil roller bottle blends and custom epsom bath salts.</p>\n\n<p>HOSTED BY:&nbsp\;<a href="http://www.mydoterra.com/SarahAnne" rel="nofollow noopener noreferrer" style="color: var(--eds-control\,#3659e3)\; text-decoration-line: none\; cursor: pointer\; background-color: transparent\; padding-top: 0px\;" target="_blank">Sarah Richards</a>\, Do&macr\;TERRA Essential oil expert\, Mom and fitness enthusiast</p>\n\n<p>COST: Free to Athena Rising members\, $10 non- members.<br />\n<br />\nRSVP HERE:&nbsp\;<a href="https://www.athenarising.org/events/2020/2/8/oils-of-love-essential-oils-for-love-trust-and-sensuality">https://www.athenarising.org/events/2020/2/8/oils-of-love-essential-oils-for-love-trust-and-sensuality</a></p>\n\n<p>Make and take items available at the event from $2 -10 each</p>\n</div>\n</div>\n</div>\n</div>\n
LOCATION:Athena Rising 4047 First Street Suite 101 Livermore\, CA 94551
UID:e.3178.2971
SEQUENCE:3
DTSTAMP:20260424T020824Z
URL:https://business.livermorechamber.org/events/details/athena-rising-presents-oils-of-love-essential-oils-for-love-trust-and-sensuality-2971
END:VEVENT

END:VCALENDAR
