BEGIN:VCALENDAR
VERSION:2.0
PRODID:-//ChamberMaster//Event Calendar 2.0//EN
METHOD:PUBLISH
X-PUBLISHED-TTL:P3D
REFRESH-INTERVAL:P3D
CALSCALE:GREGORIAN
BEGIN:VEVENT
DTSTART:20251217T020000Z
DTEND:20251217T040000Z
X-MICROSOFT-CDO-ALLDAYEVENT:FALSE
SUMMARY:Barrels and Bingo Game Night
DESCRIPTION:Barrels and Bingo Game Night\n\nTuesday\, December 16th\n\n6-8PM\n\nGrab your friends and join us at McGrail for Bingo like you've never played before! It's loud\, lively\, and a little wild! We'll have music pumping\, plenty of laughs\, and of course award-winning wines flowing. Whether you're a bingo pro or just in it for the fun\, there's something for everyone! \n\nGuests must be 21 years of age or older. \n \n\nTickets to this event include everything you need to play Bingo!\n\nMcGrail wines will be available for purchase by the glass and bottle. \n  \n\nFood Truck | Coming soon! \n  \n\nSeating is provided on a first-come\, first-served basis. If you have a group of eight or more people and would like to have a table reserved for your group\, please email us at info@mcgrailvineyards.com with your total group size and a name for the reserved table! Please note that if you are requesting a reserved table\, all of your guests must have a confirmed reservation at the time of making your request. \n\n\n$5/Wine Club Member\n\n$10/Guest
X-ALT-DESC;FMTTYPE=text/html:<p><span style="font-size:16px\;"><strong>Barrels and Bingo Game Night</strong></span></p>\n\n<p><span style="font-size:16px\;"><span style="background-color: transparent\; color: rgb(0\, 0\, 0)\; font-family: &quot\;times new roman&quot\;\, serif\;">Tuesday\, December 16th</span></span></p>\n\n<p><span style="font-size:16px\;"><span style="background-color: transparent\; color: rgb(0\, 0\, 0)\; font-family: &quot\;times new roman&quot\;\, serif\;">6-8PM</span></span></p>\n\n<p><span style="font-size:16px\;"><span style="background-color: transparent\; color: rgb(0\, 0\, 0)\; font-family: &quot\;times new roman&quot\;\, serif\;">Grab your friends and join us at McGrail for Bingo like you&#39\;ve never played before! It&#39\;s loud\, lively\, and a little wild! We&#39\;ll have music pumping\, plenty of laughs\, and of course award-winning wines flowing. Whether you&#39\;re a bingo pro or just in it for the fun\, there&#39\;s something for everyone!&nbsp\;</span></span></p>\n\n<p><span style="font-size:16px\;"><em>Guests must be 21 years of age or older.&nbsp\;</em></span></p>\n<span style="font-size:16px\;">&nbsp\;</span>\n\n<p><span style="font-size:16px\;"><span style="background-color: transparent\; color: rgb(0\, 0\, 0)\; font-family: &quot\;times new roman&quot\;\, serif\;">Tickets to this event include everything you need to play Bingo!</span></span></p>\n\n<p><span style="font-size:16px\;"><span style="background-color: transparent\; color: rgb(0\, 0\, 0)\; font-family: &quot\;times new roman&quot\;\, serif\;">McGrail wines will be available for purchase by the glass and bottle.&nbsp\;</span></span></p>\n<span style="font-size:16px\;"> &nbsp\;</span>\n\n<p><span style="font-size:16px\;"><span style="background-color: transparent\; color: rgb(0\, 0\, 0)\; font-family: &quot\;times new roman&quot\;\, serif\;">Food Truck | Coming soon!&nbsp\;</span></span></p>\n<span style="font-size:16px\;"> &nbsp\;</span>\n\n<p><span style="font-size:16px\;"><span style="background-color: transparent\; color: rgb(0\, 0\, 0)\; font-family: &quot\;times new roman&quot\;\, serif\;">Seating is provided on a first-come\, first-served basis. If you have a group of </span><em>eight or more </em><span style="background-color: transparent\; color: rgb(0\, 0\, 0)\; font-family: &quot\;times new roman&quot\;\, serif\;">people and would like to have a table reserved for your group\, please email us at info@mcgrailvineyards.com with your total group size and a name for the reserved table! Please note that if you are requesting a reserved table\, all of your guests must have a confirmed reservation at the time of making your request.&nbsp\;</span></span></p>\n<br />\n<span style="font-size:16px\;"><span style="background-color: transparent\; color: rgb(0\, 0\, 0)\; font-family: &quot\;times new roman&quot\;\, serif\;">$5/Wine Club Member</span><br />\n<span style="background-color: transparent\; color: rgb(0\, 0\, 0)\; font-family: &quot\;times new roman&quot\;\, serif\;">$10/Guest</span></span>
LOCATION:McGrail Vineyards 5600 Greenville Road Livermore\, CA 94550
UID:e.3178.8402
SEQUENCE:3
DTSTAMP:20260421T131307Z
URL:https://business.livermorechamber.org/events/details/barrels-and-bingo-game-night-12-16-2025-8402
END:VEVENT

END:VCALENDAR
