BEGIN:VCALENDAR
VERSION:2.0
PRODID:-//ChamberMaster//Event Calendar 2.0//EN
METHOD:PUBLISH
X-PUBLISHED-TTL:P3D
REFRESH-INTERVAL:P3D
CALSCALE:GREGORIAN
BEGIN:VEVENT
DTSTART:20240612T233000Z
DTEND:20240613T013000Z
X-MICROSOFT-CDO-ALLDAYEVENT:FALSE
SUMMARY:Business After Hours Mixer and Ribbon Cutting Celebration (Second Wednesday)
DESCRIPTION:About this Month's Host\n\nActivities for the whole family. See more\n\n\n\nIn addition to the mixer\, we will be celebrating their newly remodeled location with a Ribbon Cutting Celebration. \n\n\n\nJoin us for the Ribbon Cutting\, stay for the Mixer.\n\n \n \nHosting a Business After Hours Mixer\n\nChamber members host an open house at their business\, inviting attendees to a first-hand view of their facilities\, products and services.  This is networking at its best - with entertainment\, food and beverages.
X-ALT-DESC;FMTTYPE=text/html:<strong><span style="font-size:18px\;"><span style="font-family:verdana\;"><span style="color: rgb(51\, 51\, 51)\; background-color: rgb(255\, 255\, 255)\;">About this Month&#39\;s Host</span></span></span></strong><br />\n<span style="font-size:16px\;"><span style="font-family:verdana\;"><span style="color: rgb(51\, 51\, 51)\; background-color: rgb(255\, 255\, 255)\;">Activities for the whole family. <a href="https://clublivermore.topdoglive.com/pages/club_information.asp?orgid=2">See more</a></span><br />\n<br />\nIn addition to the mixer\, we will be celebrating their newly remodeled location with a Ribbon Cutting Celebration.&nbsp\;<br />\n<br />\nJoin us for the Ribbon Cutting\, stay for the Mixer.</span></span><br />\n&nbsp\;\n<div background-color:="" class="dfltt calign txt0" font-size:="" sans="" source="" style="color: rgb(51\, 51\, 51)\; font-family: ">&nbsp\;</div>\n<span style="color: rgb(51\, 51\, 51)\; font-family: verdana\; font-size: 14px\; background-color: rgb(255\, 255\, 255)\;"><strong><span style="font-size:18px\;">Hosting a Business After Hours Mixer</span></strong><br />\nChamber members host an open house at their business\, inviting attendees to a first-hand view of their facilities\, products and services.&nbsp\; This is networking at its best - with entertainment\, food and beverages.</span><br />\n&nbsp\;
LOCATION:The Club @ Livermore 2000 Arroyo Road Livermore\, CA 94550 Event Partners
UID:e.3178.5716
SEQUENCE:3
DTSTAMP:20260424T134317Z
URL:https://business.livermorechamber.org/events/details/business-after-hours-mixer-and-ribbon-cutting-celebration-second-wednesday-5716
END:VEVENT

END:VCALENDAR
