BEGIN:VCALENDAR
VERSION:2.0
PRODID:-//ChamberMaster//Event Calendar 2.0//EN
METHOD:PUBLISH
X-PUBLISHED-TTL:P3D
REFRESH-INTERVAL:P3D
CALSCALE:GREGORIAN
BEGIN:VEVENT
DTSTART:20190730T170000Z
DTEND:20190730T230000Z
X-MICROSOFT-CDO-ALLDAYEVENT:FALSE
SUMMARY:Business Portrait Pop-Up Session
DESCRIPTION:Visit us at the upcoming Business Portrait Pop-Up Session Event.\n\n\n\nSchedule your appointment for your 15 minute session. The professional studio set up will include a white backdrop. You will receive the following:\n\n	Onsite Proofing\n	Delivery of at least three signature enhanced images\n	Delivery of One beauty retouched image (beauty retouching includes:softening of skin & facial blemishes\, removal of lint\, wrinkles\, stray hair)\n	High & Low resolution files\n	Images are delivered via an online gallery\n\nChamber Members $80.00 | Non-Members $100.00\n\nIt's Easy To Schedule: REGISTER HERE
X-ALT-DESC;FMTTYPE=text/html:Visit us at the upcoming Business Portrait Pop-Up Session Event.<br />\n<br />\nSchedule your appointment for your 15 minute session. The professional studio set up will include a white backdrop. You will receive the following:\n<ul>\n	<li>Onsite Proofing</li>\n	<li>Delivery of at least three signature enhanced images</li>\n	<li>Delivery of One beauty retouched image (beauty retouching includes:softening of skin &amp\; facial blemishes\, removal of lint\, wrinkles\, stray hair)</li>\n	<li>High &amp\; Low resolution files</li>\n	<li>Images are delivered via an online gallery</li>\n</ul>\nChamber Members $80.00 | Non-Members $100.00<br />\nIt&#39\;s Easy To Schedule: <a href="https://businessportraitpopup.youcanbook.me">REGISTER HERE</a>
LOCATION:Livermore Valley Chamber of Commerce Conference Room 2157 First Street Livermore CA 94550
UID:e.3178.2842
SEQUENCE:3
DTSTAMP:20260424T110859Z
URL:https://business.livermorechamber.org/events/details/business-head-shot-pop-up-session-2842
END:VEVENT

END:VCALENDAR
