BEGIN:VCALENDAR
VERSION:2.0
PRODID:-//ChamberMaster//Event Calendar 2.0//EN
METHOD:PUBLISH
X-PUBLISHED-TTL:P3D
REFRESH-INTERVAL:P3D
CALSCALE:GREGORIAN
BEGIN:VEVENT
DTSTART:20251223T033000Z
DTEND:20251223T053000Z
X-MICROSOFT-CDO-ALLDAYEVENT:FALSE
SUMMARY:Campana Sobre Campana: Christmas in Mexico
DESCRIPTION:Vibrant. Traditional. Navidad.\n\nENGLISH: Mariachi Garibaldi de Jaime Cu llar and Ballet Folklorico del Rio Grande invite you to celebrate the holiday season with Campana Sobre Campana: Christmas in Mexico! Named for the beloved Andalusian Christmas Carol\, this vibrant show weaves cherished Mexican traditions into a magical story of the season! Through the joyous rhythms of "Bells Upon Bells" and the colorful spectacle of Mexican dance\, we capture the heartwarming reenactment of Mary and Joseph's journey! You'll experience the spirit of Posadas\, the majesty of the Reyes Magos\, and the thrill of breaking pi atas! Join Mariachi Garibaldi de Jaime Cu llar and Ballet Folklorico del Rio Grande for an unforgettable program where every note and dance step embodies the rich cultural tapestry of Christmas in Mexico!\n\nSPANISH: Mariachi Garibaldi de Jaime Cu llar y Ballet Folkl rico del R o Grande te invitan a celebrar la temporada navide a con "Campana Sobre Campana: Navidad en M xico". Nombrado en honor al querido villancico andaluz\, este vibrante espect culo entrelaza tradiciones mexicanas entra ables en una m gica historia de la temporada. A trav s de los alegres ritmos de "Campana Sobre Campana" y el colorido espect culo de la danza mexicana\, capturamos la conmovedora representaci n del viaje de Mar a y Jos .  Experimentar s el esp ritu de las Posadas\, la majestuosidad de los Reyes Magos y la emoci n de romper pi atas!  nete a Ballet Folkl rico del R o Grande y Mariachi Garibaldi de Jaime Cu llar en un programa inolvidable donde cada nota y paso de baile encarnan la rica cultura de la Navidad en M xico.
X-ALT-DESC;FMTTYPE=text/html:<p><span style="font-size:16px\;"><strong><em>Vibrant. Traditional. Navidad.</em></strong></span></p>\n\n<p><span style="font-size:16px\;"><strong>ENGLISH</strong>:&nbsp\;<em>Mariachi Garibaldi de Jaime Cu&eacute\;llar</em>&nbsp\;and&nbsp\;<em>Ballet Folklorico del Rio Grande</em>&nbsp\;invite you to celebrate the holiday season with&nbsp\;<em>Campana Sobre Campana: Christmas in Mexico</em>! Named for the beloved Andalusian Christmas Carol\, this vibrant show weaves cherished Mexican traditions into a magical story of the season! Through the joyous rhythms of &ldquo\;Bells Upon Bells&rdquo\; and the colorful spectacle of Mexican dance\, we capture the heartwarming reenactment of Mary and Joseph&rsquo\;s journey! You&rsquo\;ll experience the spirit of Posadas\, the majesty of the Reyes Magos\, and the thrill of breaking pi&ntilde\;atas! Join&nbsp\;<em>Mariachi Garibaldi de Jaime Cu&eacute\;llar</em>&nbsp\;and&nbsp\;<em>Ballet Folklorico del Rio Grande</em>&nbsp\;for an unforgettable program where every note and dance step embodies the rich cultural tapestry of Christmas in Mexico!</span></p>\n\n<p><span style="font-size:16px\;"><strong>SPANISH</strong>:&nbsp\;<em>Mariachi Garibaldi de Jaime Cu&eacute\;llar</em>&nbsp\;y&nbsp\;<em>Ballet Folkl&oacute\;rico del R&iacute\;o Grande</em>&nbsp\;te invitan a celebrar la temporada navide&ntilde\;a con &ldquo\;<em>Campana Sobre Campana: Navidad en M&eacute\;xico</em>&ldquo\;. Nombrado en honor al querido villancico andaluz\, este vibrante espect&aacute\;culo entrelaza tradiciones mexicanas entra&ntilde\;ables en una m&aacute\;gica historia de la temporada. A trav&eacute\;s de los alegres ritmos de &ldquo\;Campana Sobre Campana&rdquo\; y el colorido espect&aacute\;culo de la danza mexicana\, capturamos la conmovedora representaci&oacute\;n del viaje de Mar&iacute\;a y Jos&eacute\;. &iexcl\;Experimentar&aacute\;s el esp&iacute\;ritu de las Posadas\, la majestuosidad de los Reyes Magos y la emoci&oacute\;n de romper pi&ntilde\;atas! &Uacute\;nete a&nbsp\;<em>Ballet Folkl&oacute\;rico del R&iacute\;o Grande</em>&nbsp\;y&nbsp\;<em>Mariachi Garibaldi de Jaime Cu&eacute\;llar</em>&nbsp\;en un programa inolvidable donde cada nota y paso de baile encarnan la rica cultura de la Navidad en M&eacute\;xico.</span></p>\n
LOCATION:Bankhead Theater 2400 1st St. Livermore\, CA 94550
UID:e.3178.8291
SEQUENCE:3
DTSTAMP:20260421T132002Z
URL:https://business.livermorechamber.org/events/details/campana-sobre-campana-christmas-in-mexico-8291
END:VEVENT

END:VCALENDAR
