BEGIN:VCALENDAR
VERSION:2.0
PRODID:-//ChamberMaster//Event Calendar 2.0//EN
METHOD:PUBLISH
X-PUBLISHED-TTL:P3D
REFRESH-INTERVAL:P3D
CALSCALE:GREGORIAN
BEGIN:VEVENT
DTSTART;VALUE=DATE:20251224
DTEND;VALUE=DATE:20260101
TRANSP:TRANSPARENT
X-MICROSOFT-CDO-ALLDAYEVENT:TRUE
SUMMARY:Christmas Holiday - Office Closed
DESCRIPTION:Best wishes for a joyous Christmas and new year filled with love\, happiness and prosperity!\n\n\nWe look forward to seeing you in 2026!
X-ALT-DESC;FMTTYPE=text/html:<div class="TrT0Xe" style="margin: 0px 0px 4px\; padding: 0px\; list-style-type: disc\;"><span style="font-size:16px\;"><span style="font-family:verdana\;">Best wishes for a joyous Christmas and new year filled with love\, happiness and prosperity!</span></span></div>\n<br />\n<span style="font-size:16px\;"><span style="font-family:verdana\;">We look forward to seeing you in 2026!</span></span>
LOCATION:
UID:e.3178.6401
SEQUENCE:3
DTSTAMP:20260421T131346Z
URL:https://business.livermorechamber.org/events/details/christmas-holiday-office-closed-12-24-2025-6401
END:VEVENT

END:VCALENDAR
