BEGIN:VCALENDAR
VERSION:2.0
PRODID:-//ChamberMaster//Event Calendar 2.0//EN
METHOD:PUBLISH
X-PUBLISHED-TTL:P3D
REFRESH-INTERVAL:P3D
CALSCALE:GREGORIAN
BEGIN:VEVENT
DTSTART:20200306T023000Z
DTEND:20200306T040000Z
X-MICROSOFT-CDO-ALLDAYEVENT:FALSE
SUMMARY:Conscious Parenting Circle Presented by Athena Rising
DESCRIPTION:Providing insight\, ah-has & active practices to become more aware of how you can be a better parent for your child- and for yourself.\n\n\n\n\n\n\nAbout this Event\n\n\nIn this series of meetings\, we will be studying the transformative book\, The Conscious Parent by Dr. Shefali Tsabary\, PhD. We will be reading the book incrementally over four meetings. However\, please still join for the conversation even if you don't have time to read the book as we will review and the discussion will still be helpful. And it's ok if you can't make it to all the meetings.\n\nThe Conscious Parent book focuses on how we can transform ourselves to empower our children. If we are not living consciously\, we unknowingly pass down our own fears\, pain\, perceptions and emotional dysfunction. This leads to frustration and dissatisfaction for both parents and children.\n\nMost parenting book focus on techniques for controlling our children. However\, if we can open up to seeing our children as our spiritual partner we can shift the paradigm of parenting from our wounds to parenting from a place of wholeness. The book and discussions in this circle will provide you with insight\, ah-ha moments and give you active practices to become more aware of how you can be a better parent for your child\, but also for yourself.\n\nThis is open to all humans that want to grow and be more conscious\, whether you have children or not. If you don't have children\, everybody has an inner child and everybody was a child at some point and has wounds from it. So this will be helpful for literally anyone who wants more ease and peace in their life. I feel called to do this because coming together as a group is really powerful and it is my calling to facilitate. I feel like this workshop would make a difference for people to grow\, for themselves\, for their children and the children of the world.\n\nMEETINGS are on Thursdays at 6:30pm - 8pm on these dates:\n\nMarch 5th \,March 12th\, April 2\, & April 23\n\nHOSTED BY: Lia Venet \, CHHC\, Connector\, Speaker\, Women's Empowerment Leader\, Life Change Catalyst & Transformation Initiator.\n\nDo you want to connect with like hearted women that have your back without judgement\, comparison and competition? Do you want to feel more confident in speaking your truth? Are you ready to rise together with your sisters in bringing your unique gifts to the world? Come experience a WomanSpeak Circle to see what it's all about. 1st & 3rd Tuesdays at 11am or 1st & 3rd Wednesdays at 6pm. Call Lia at 510-381-5568 or check out her website.
X-ALT-DESC;FMTTYPE=text/html:<div>\n<div>\n<div>\n<div>\n<div><strong>Providing insight\, ah-has &amp\; active practices to become more aware of how you can be a better parent for your child- and for yourself.</strong></div>\n</div>\n</div>\n</div>\n</div>\n\n<div>\n<h2>About this Event</h2>\n\n<div>\n<p>In this series of meetings\, we will be studying the transformative book\,&nbsp\;<a href="https://www.amazon.com/Conscious-Parent-Transforming-Ourselves-Empowering/dp/1897238452/ref=tmm_pap_swatch_0?_encoding=UTF8&amp\;qid=1581454022&amp\;sr=8-1" rel="nofollow noopener noreferrer" style="color: var(--eds-control\,#3659e3)\; text-decoration-line: none\; cursor: pointer\; background-color: transparent\; padding-top: 0px\;" target="_blank">The Conscious Parent</a>&nbsp\;by Dr. Shefali Tsabary\, PhD. We will be reading the book incrementally over four meetings. However\, please still join for the conversation even if you don&rsquo\;t have time to read the book as we will review and the discussion will still be helpful. And it&rsquo\;s ok if you can&rsquo\;t make it to all the meetings.</p>\n\n<p>The Conscious Parent book focuses on how we can transform ourselves to empower our children. If we are not living consciously\, we unknowingly pass down our own fears\, pain\, perceptions and emotional dysfunction. This leads to frustration and dissatisfaction for both parents and children.</p>\n\n<p>Most parenting book focus on techniques for controlling our children. However\, if we can open up to seeing our children as our spiritual partner we can shift the paradigm of parenting from our wounds to parenting from a place of wholeness. The book and discussions in this circle will provide you with insight\, ah-ha moments and give you active practices to become more aware of how you can be a better parent for your child\, but also for yourself.</p>\n\n<p>This is open to all humans that want to grow and be more conscious\, whether you have children or not. If you don&rsquo\;t have children\, everybody has an inner child and everybody was a child at some point and has wounds from it. So this will be helpful for literally anyone who wants more ease and peace in their life. I feel called to do this because coming together as a group is really powerful and it is my calling to facilitate. I feel like this workshop would make a difference for people to grow\, for themselves\, for their children and the children of the world.</p>\n\n<p>MEETINGS are on Thursdays at 6:30pm - 8pm on these dates:</p>\n\n<p>March 5th \,March 12th\, April 2\, &amp\; April 23</p>\n\n<p>HOSTED BY:&nbsp\;<a href="https://womanspeak.safechkout.net/intro-l-venet" rel="nofollow noopener noreferrer" style="color: var(--eds-control\,#3659e3)\; text-decoration-line: none\; cursor: pointer\; background-color: transparent\; padding-top: 0px\;" target="_blank">Lia Venet</a>&nbsp\;\, CHHC\, Connector\, Speaker\, Women&#39\;s Empowerment Leader\, Life Change Catalyst &amp\; Transformation Initiator.</p>\n\n<p>Do you want to connect with like hearted women that have your back without judgement\, comparison and competition? Do you want to feel more confident in speaking your truth? Are you ready to rise together with your sisters in bringing your unique gifts to the world? Come experience a WomanSpeak Circle to see what it&#39\;s all about. 1st &amp\; 3rd Tuesdays at 11am or 1st &amp\; 3rd Wednesdays at 6pm. Call Lia at 510-381-5568 or check out her&nbsp\;<a href="https://womanspeak.safechkout.net/intro-l-venet" rel="nofollow noopener noreferrer" style="color: var(--eds-control\,#3659e3)\; text-decoration-line: none\; cursor: pointer\; background-color: transparent\; padding-top: 0px\;" target="_blank">website</a>.</p>\n\n<p>&nbsp\;</p>\n</div>\n</div>\n
LOCATION:Athena Rising 4047 First Street Suite 101 Livermore\, CA 94551
UID:e.3178.2987
SEQUENCE:3
DTSTAMP:20260423T233113Z
URL:https://business.livermorechamber.org/events/details/conscious-parenting-circle-presented-by-athena-rising-2987
END:VEVENT

END:VCALENDAR
