BEGIN:VCALENDAR
VERSION:2.0
PRODID:-//ChamberMaster//Event Calendar 2.0//EN
METHOD:PUBLISH
X-PUBLISHED-TTL:P3D
REFRESH-INTERVAL:P3D
CALSCALE:GREGORIAN
BEGIN:VEVENT
DTSTART:20191214T160000Z
DTEND:20191214T200000Z
X-MICROSOFT-CDO-ALLDAYEVENT:FALSE
SUMMARY:Drivers For Survivors 4th Annual Holiday Pancake Breakfast with Santa
DESCRIPTION:The Board of Drivers For Survivors (DFS) will be kicking off the holiday season with our 4th Annual Holiday Pancake Breakfast with Santa. The event will be hosted again at Newark Community Center in tandem with the continued partnership of Newark Police Department\, California and Alameda County Fire Department IAFF 55!\n\n\n\nThis heartwarming holiday FUNdraising event will be held at the Newark Community Center's Social Hall on December 14th\, 2019 from 8:00 a.m. to noon. Ticket price is $10/adult and $5/Children. Raffle tickets will be available at $5.00/ticket or 5 tickets for $20.00\; winner will receive a basket filled with gift certificates for dining and entertainment.\n\n\n\nWe will be hosting a warm and inviting breakfast with hot and cold beverages. There will be silent auction items and entertainment/restaurant raffle basket. Santa will be arriving from the North Pole and visiting with us throughout the morning\, and art table along with face painting. There will be information booths/vendors this year and short performances interspersed throughout the morning. There will be more opportunities to check out auction items and information booths between performances.\n\n\n\nA huge THANK YOU to Fremont Recycling and Transfer Station\, Fidelity Insurance Services and Assemblymember Bill Quirk for being our top sponsors for this event! Also\, a big THANK YOU for the continued in-kind support and shout out to Castro Valley Performing Arts. As we get confirmation\, this list is sure to grow!\n\n\n\nFlyer Credit: Jessica Wang\n\n\n\nLogo Credit: Jeff Schinkel\n\n\n\nDrivers For Survivors THANKS YOU! We value and appreciate the support! Please call (510) 894-0135 for more information!
X-ALT-DESC;FMTTYPE=text/html:<span style="color:rgb(17\, 17\, 17)\; font-family:proxima_nova\,open sans\,helvetica neue\,helvetica\,arial\,sans-serif\; font-size:18px">The Board of Drivers For Survivors (DFS) will be kicking off the holiday season with our 4th&nbsp\;Annual Holiday Pancake Breakfast with Santa. The event will be hosted again at Newark Community Center in tandem with the continued partnership of Newark Police Department\, California and Alameda County Fire Department IAFF 55!</span><br />\n<br />\n<span style="color:rgb(17\, 17\, 17)\; font-family:proxima_nova\,open sans\,helvetica neue\,helvetica\,arial\,sans-serif\; font-size:18px">This heartwarming holiday FUNdraising event will be held at the Newark Community Center&rsquo\;s Social Hall on December 14th\, 2019 from 8:00 a.m. to noon. Ticket price is $10/adult and $5/Children. Raffle tickets will be available at $5.00/ticket or 5 tickets for $20.00\; winner will receive a basket filled with gift certificates for dining and entertainment.</span><br />\n<br />\n<span style="color:rgb(17\, 17\, 17)\; font-family:proxima_nova\,open sans\,helvetica neue\,helvetica\,arial\,sans-serif\; font-size:18px">We will be hosting a warm and inviting breakfast with hot and cold beverages. There will be silent auction items&nbsp\;and entertainment/restaurant raffle basket. Santa will be arriving from the North Pole and visiting with us throughout the morning\, and art table along with face painting. There will be information booths/vendors this year and short performances interspersed throughout the morning. There will be more opportunities to check out auction items and information booths between performances.</span><br />\n<br />\n<span style="color:rgb(17\, 17\, 17)\; font-family:proxima_nova\,open sans\,helvetica neue\,helvetica\,arial\,sans-serif\; font-size:18px">A huge THANK YOU to Fremont Recycling and Transfer Station\, Fidelity Insurance Services and Assemblymember Bill Quirk for&nbsp\;being our top sponsors for this event! Also\, a big THANK YOU for the continued in-kind support and shout out to Castro Valley Performing Arts. As we get confirmation\, this list is sure to grow!</span><br />\n<br />\n<span style="color:rgb(17\, 17\, 17)\; font-family:proxima_nova\,open sans\,helvetica neue\,helvetica\,arial\,sans-serif\; font-size:18px">Flyer Credit: Jessica Wang</span><br />\n<br />\n<span style="color:rgb(17\, 17\, 17)\; font-family:proxima_nova\,open sans\,helvetica neue\,helvetica\,arial\,sans-serif\; font-size:18px">Logo Credit: Jeff Schinkel</span><br />\n<br />\n<span style="color:rgb(17\, 17\, 17)\; font-family:proxima_nova\,open sans\,helvetica neue\,helvetica\,arial\,sans-serif\; font-size:18px">Drivers For Survivors THANKS YOU! We value and appreciate the support! Please call (510) 894-0135 for more information!</span>
LOCATION:Newark Community Center 35501 Cedar Blvd\, Newark\, CA 94560
UID:e.3178.2874
SEQUENCE:3
DTSTAMP:20260424T033851Z
URL:https://business.livermorechamber.org/events/details/drivers-for-survivors-4th-annual-holiday-pancake-breakfast-with-santa-2874
END:VEVENT

END:VCALENDAR
