BEGIN:VCALENDAR
VERSION:2.0
PRODID:-//ChamberMaster//Event Calendar 2.0//EN
METHOD:PUBLISH
X-PUBLISHED-TTL:P3D
REFRESH-INTERVAL:P3D
CALSCALE:GREGORIAN
BEGIN:VEVENT
DTSTART:20191213T013000Z
DTEND:20191213T043000Z
X-MICROSOFT-CDO-ALLDAYEVENT:FALSE
SUMMARY:East Bay Book of Lists Party
DESCRIPTION:Join the San Francisco Business Times\, in partnership with Livermore Valley Chamber of Commerce\,  and the top companies in the East Bay for an evening of food\, drinks and celebration!
X-ALT-DESC;FMTTYPE=text/html:Join the San Francisco Business Times\, in partnership with Livermore Valley Chamber of Commerce\,&nbsp\; and the top companies in the East Bay for an evening of food\, drinks and celebration!
LOCATION:Roundhouse Market & Conference Center at Bishop Ranch 2600 Camino Ramon San Ramon
UID:e.3178.2887
SEQUENCE:3
DTSTAMP:20260424T061852Z
URL:https://business.livermorechamber.org/events/details/east-bay-book-of-lists-party-2887
END:VEVENT

END:VCALENDAR
