BEGIN:VCALENDAR
VERSION:2.0
PRODID:-//ChamberMaster//Event Calendar 2.0//EN
METHOD:PUBLISH
X-PUBLISHED-TTL:P3D
REFRESH-INTERVAL:P3D
CALSCALE:GREGORIAN
BEGIN:VEVENT
DTSTART:20191211T180000Z
DTEND:20191211T220000Z
X-MICROSOFT-CDO-ALLDAYEVENT:FALSE
SUMMARY:Schedule Your Business Portrait Session
DESCRIPTION:Update your business portrait by visiting us at the next Portrait Studio Pop-Up.\n\nTo schedule your session Click Here\n\nLocation: Livermore Chamber of Commerce\n\nDate: Wednesday 12/11/2019\n\nTime: 10:00 - 2:00\n\nYour 15 minute session includes:\n\n\n	Studio Set up with White Backdrop\n	Onsite Proofing\n	One beauty retouched image (retouching includes softening of skin & facial blemishes\, softening of dark circles under eyes\, stray hair and smoothing wrinkles or lint on clothes\n	Image delivered via an online gallery\n\n\nMembers: $80.00 Non-Members $100.00
X-ALT-DESC;FMTTYPE=text/html:<p>Update your business portrait by visiting us at the next Portrait Studio Pop-Up.<br />\nTo schedule your session&nbsp\;<a href="https://businessportraitpopup.youcanbook.me">Click Here</a></p>\n\n<p>Location: Livermore Chamber of Commerce</p>\n\n<p>Date: Wednesday 12/11/2019</p>\n\n<p>Time: 10:00 - 2:00</p>\n\n<p>Your 15 minute session includes:</p>\n\n<ul style="margin-left:0.375in">\n	<li><span style="font-family:arial\; font-size:9.75pt">Studio Set up with White Backdrop</span></li>\n	<li><span style="font-family:arial\; font-size:9.75pt">Onsite Proofing</span></li>\n	<li><span style="font-family:arial\; font-size:9.75pt">One beauty retouched image (retouching includes softening of skin &amp\; facial blemishes\, softening of dark circles under eyes\, stray hair and smoothing wrinkles or lint on clothes</span></li>\n	<li><span style="font-family:arial\; font-size:9.75pt">Image delivered via an online gallery</span></li>\n</ul>\n\n<p>Members: $80.00 Non-Members $100.00</p>\n
LOCATION:Livermore Valley Chamber of Commerce 2157 First St Livermore CA 94550
UID:e.3178.2889
SEQUENCE:3
DTSTAMP:20260424T033947Z
URL:https://business.livermorechamber.org/events/details/elevate-your-brand-schedule-your-business-portrait-session-2889
END:VEVENT

END:VCALENDAR
