BEGIN:VCALENDAR
VERSION:2.0
PRODID:-//ChamberMaster//Event Calendar 2.0//EN
METHOD:PUBLISH
X-PUBLISHED-TTL:P3D
REFRESH-INTERVAL:P3D
CALSCALE:GREGORIAN
BEGIN:VEVENT
DTSTART:20191102T160000Z
DTEND:20191102T190000Z
X-MICROSOFT-CDO-ALLDAYEVENT:FALSE
SUMMARY:FREE Community Shredding Event
DESCRIPTION:The City of Livermore is celebrating America Recycles Day by hosting a free Community Paper Shredding Event.
X-ALT-DESC;FMTTYPE=text/html:The City of Livermore is celebrating America Recycles Day by hosting a free Community Paper Shredding Event.
LOCATION:Livermore City Hall Parking Lot 1052 S. Livermore Ave.
UID:e.3178.2882
SEQUENCE:3
DTSTAMP:20260424T050334Z
URL:https://business.livermorechamber.org/events/details/free-community-shredding-event-2882
END:VEVENT

END:VCALENDAR
