BEGIN:VCALENDAR
VERSION:2.0
PRODID:-//ChamberMaster//Event Calendar 2.0//EN
METHOD:PUBLISH
X-PUBLISHED-TTL:P3D
REFRESH-INTERVAL:P3D
CALSCALE:GREGORIAN
BEGIN:VEVENT
DTSTART:20251222T193000Z
DTEND:20251222T233000Z
X-MICROSOFT-CDO-ALLDAYEVENT:FALSE
SUMMARY:Gingerbread House Decorating at McGrail
DESCRIPTION:Gingerbread House Decorating at McGrail\n\nSunday\, December 22nd\n\n11:00 AM 3:30 PM\n\nJoin us for a cozy holiday afternoon of creativity and cheer at McGrail! Decorate your own pre-assembled gingerbread house\, complete with all the fixings\, while sipping on a glass of wine or sparkling cider. Drop in any time between 11:00am and 3:30pm to enjoy the festivities!\n\n\n\nA ticket includes one pre-assembled gingerbread house and a glass of wine or sparkling cider!\n\nAdditional wine will be available by the glass and bottle for purchase. \n \n\n$40/Wine Club Member\n\n$45/Guest
X-ALT-DESC;FMTTYPE=text/html:<p><span style="font-size:16px\;"><strong>Gingerbread House Decorating at McGrail</strong><br />\n<span new="" style="background-color: transparent\; color: rgb(0\, 0\, 0)\; font-family: " times="">Sunday\, December 22nd</span></span></p>\n\n<p><span style="font-size:16px\;"><span new="" style="background-color: transparent\; color: rgb(0\, 0\, 0)\; font-family: " times="">11:00 AM&ndash\;3:30 PM</span></span></p>\n\n<p><span style="font-size:16px\;"><span new="" style="background-color: transparent\; color: rgb(0\, 0\, 0)\; font-family: " times="">Join us for a cozy holiday afternoon of creativity and cheer at McGrail! Decorate your own pre-assembled gingerbread house\, complete with all the fixings\, while sipping on a glass of wine or sparkling cider. Drop in any time between 11:00am and 3:30pm to enjoy the festivities!</span></span></p>\n\n<p><br />\n<span style="font-size:16px\;"><span new="" style="background-color: transparent\; color: rgb(0\, 0\, 0)\; font-family: " times="">A ticket includes one pre-assembled gingerbread house and a glass of wine or sparkling cider!</span><br />\n<span new="" style="background-color: transparent\; color: rgb(0\, 0\, 0)\; font-family: " times="">Additional wine will be available by the glass and bottle for purchase.&nbsp\;</span></span></p>\n<span style="font-size:16px\;">&nbsp\;</span>\n\n<p><span style="font-size:16px\;"><span new="" style="background-color: transparent\; color: rgb(0\, 0\, 0)\; font-family: " times="">$40/Wine Club Member</span></span></p>\n\n<p><span style="font-size:16px\;"><span new="" style="background-color: transparent\; color: rgb(0\, 0\, 0)\; font-family: " times="">$45/Guest</span></span></p>\n\n<div>&nbsp\;</div>\n
LOCATION:McGrail Vineyards & Winery 5600 Greenville Road Livermore\, CA
UID:e.3178.8440
SEQUENCE:3
DTSTAMP:20260421T143732Z
URL:https://business.livermorechamber.org/events/details/gingerbread-house-decorating-at-mcgrail-8440
END:VEVENT

END:VCALENDAR
