BEGIN:VCALENDAR
VERSION:2.0
PRODID:-//ChamberMaster//Event Calendar 2.0//EN
METHOD:PUBLISH
X-PUBLISHED-TTL:P3D
REFRESH-INTERVAL:P3D
CALSCALE:GREGORIAN
BEGIN:VEVENT
DTSTART:20200512T020000Z
DTEND:20200512T033000Z
X-MICROSOFT-CDO-ALLDAYEVENT:FALSE
SUMMARY:Go with the Flow: An Intro to Feng Shui
DESCRIPTION:We'll cover the basics of energy flow and how to 'read' your space. Uncover the messages in your environment and learn what you can do to make sure those messages are positive! As this is on zoom\, we have the ability to look at and address any questions you may have about your environment.\n\nHosted on Zoom by April Gallagher.\n\nApril Gallagher is a Master Clutter Clearer\, Transformational Coach\, and Feng Shui Practitioner with over 15 years experience harnessing energy flow to maximize efficiency\, efficacy\, and loveliness! \n\nFree to ALL.  To sign up\, please email Athena Rising or log into the Athena Rising Online Community and RSVP to the event in the online community.
X-ALT-DESC;FMTTYPE=text/html:<p>We&rsquo\;ll cover the basics of energy flow and how to &lsquo\;read&rsquo\; your space. Uncover the messages in your environment and learn what you can do to make sure those messages are positive! As this is on zoom\, we have the ability to look at and address any questions you may have about your environment.</p>\n\n<p>Hosted on Zoom by April Gallagher.</p>\n\n<p><a href="http://aprilgallagher.com/" style="background-color: transparent\; color: rgb(170\, 143\, 82)\; text-decoration-line: none\; padding-bottom: 0.05em\; border-bottom: 1px solid rgba(170\, 143\, 82\, 0.298)\; transition: border-color 0.15s ease-out 0s\, color 0.15s ease-out 0s\; overflow-wrap: break-word\;">April Gallagher</a> is a Master Clutter Clearer\, Transformational Coach\, and Feng Shui Practitioner with over 15 years experience harnessing energy flow to maximize efficiency\, efficacy\, and loveliness!&nbsp\;</p>\n\n<p>Free to ALL.&nbsp\; To sign up\, please <a href="mailto:info@athenarising.org?subject=RSVP%3A%20Go%20with%20the%20Flow&amp\;bcc=april%40aprilgallagher.com" style="background-color: transparent\; color: rgb(170\, 143\, 82)\; text-decoration-line: none\; padding-bottom: 0.05em\; border-bottom: 1px solid rgba(170\, 143\, 82\, 0.298)\; transition: border-color 0.15s ease-out 0s\, color 0.15s ease-out 0s\; overflow-wrap: break-word\;">email</a> Athena Rising or log into the <a href="http://athenarising.mn.co/" style="background-color: transparent\; color: rgb(170\, 143\, 82)\; text-decoration-line: none\; padding-bottom: 0.05em\; border-bottom: 1px solid rgba(170\, 143\, 82\, 0.298)\; transition: border-color 0.15s ease-out 0s\, color 0.15s ease-out 0s\; overflow-wrap: break-word\;">Athena Rising Online Community</a> and RSVP to the event in the online community.</p>\n
LOCATION:Zoom\, presented by Athena Rising
UID:e.3178.3068
SEQUENCE:3
DTSTAMP:20260423T213838Z
URL:https://business.livermorechamber.org/events/details/go-with-the-flow-an-intro-to-feng-shui-3068
END:VEVENT

END:VCALENDAR
