BEGIN:VCALENDAR
VERSION:2.0
PRODID:-//ChamberMaster//Event Calendar 2.0//EN
METHOD:PUBLISH
X-PUBLISHED-TTL:P3D
REFRESH-INTERVAL:P3D
CALSCALE:GREGORIAN
BEGIN:VEVENT
DTSTART:20260127T220000Z
DTEND:20260127T230000Z
X-MICROSOFT-CDO-ALLDAYEVENT:FALSE
SUMMARY:Grand Opening Ribbon Cutting Ceremony - Drip Back To Life Medical Corporation
DESCRIPTION:You're invited to join us at this Grand Opening Ribbon Cutting Ceremony as we welcome Drip Back To Life Medical Corporation to Livermore Valley Chamber of Commerce and to the community.
X-ALT-DESC;FMTTYPE=text/html:<span style="color: rgb(51\, 51\, 51)\; font-family: sans-serif\, Arial\, Verdana\, &quot\;Trebuchet MS&quot\;\; font-size: 16px\; background-color: rgb(255\, 255\, 255)\;">You&#39\;re invited to join us at this Grand Opening Ribbon Cutting Ceremony as we welcome Drip Back To Life Medical Corporation to Livermore Valley Chamber of Commerce and to the community.</span>
LOCATION:Drip Back To Life Medical Corporation 186 South K Street Livermore\, CA 94550
UID:e.3178.8509
SEQUENCE:3
DTSTAMP:20260421T132316Z
URL:https://business.livermorechamber.org/events/details/grand-opening-ribbon-cutting-ceremony-drip-back-to-life-medical-corporation-8509
END:VEVENT

END:VCALENDAR
