BEGIN:VCALENDAR
VERSION:2.0
PRODID:-//ChamberMaster//Event Calendar 2.0//EN
METHOD:PUBLISH
X-PUBLISHED-TTL:P3D
REFRESH-INTERVAL:P3D
CALSCALE:GREGORIAN
BEGIN:VEVENT
DTSTART:20251218T190000Z
DTEND:20251218T200000Z
X-MICROSOFT-CDO-ALLDAYEVENT:FALSE
SUMMARY:Grand Opening Ribbon Cutting Ceremony - Kamdhenu5 LLC dba Teriyaki Madness
DESCRIPTION:You're invited to join us at this Grand Opening Ribbon Cutting Ceremony as we welcome Kamdhenu5 LLC dba Teriyaki Madness to Livermore Valley Chamber of Commerce and to the community.
X-ALT-DESC;FMTTYPE=text/html:<span style="color: rgb(51\, 51\, 51)\; font-family: sans-serif\, Arial\, Verdana\, &quot\;Trebuchet MS&quot\;\; font-size: 16px\; background-color: rgb(255\, 255\, 255)\;">You&#39\;re invited to join us at this Grand Opening Ribbon Cutting Ceremony as we welcome Kamdhenu5 LLC dba Teriyaki Madness to Livermore Valley Chamber of Commerce and to the community.</span>
LOCATION:Kamdhenu5 LLC dba Teriyaki Madness 4543 Livermore Outlets Drive Livermore\, CA 94551
UID:e.3178.8439
SEQUENCE:3
DTSTAMP:20260421T132238Z
URL:https://business.livermorechamber.org/events/details/grand-opening-ribbon-cutting-ceremony-kamdheriu5-llc-dba-teriyaki-madness-8439
END:VEVENT

END:VCALENDAR
