BEGIN:VCALENDAR
VERSION:2.0
PRODID:-//ChamberMaster//Event Calendar 2.0//EN
METHOD:PUBLISH
X-PUBLISHED-TTL:P3D
REFRESH-INTERVAL:P3D
CALSCALE:GREGORIAN
BEGIN:VEVENT
DTSTART;VALUE=DATE:20190901
DTEND;VALUE=DATE:20190902
TRANSP:TRANSPARENT
X-MICROSOFT-CDO-ALLDAYEVENT:TRUE
SUMMARY:Harvest Wine Celebration
DESCRIPTION:Livermore Valley wineries celebrate the exciting crush season and 38 years of the Harvest Wine Celebration. Live Music\, Food Vendor\, and Craft Vendor will be at Tesla location \n\nTickets available through LVWINE.ORG \n\nVisit us at either location and enjoy the festivities. Tesla Location Hours: Friday and Sunday 12 pm until 5 pm\, Saturday 12 pm until 6 pm. Earhart Location Hours: Friday 4 pm until 8 pm\, Saturday 12 pm until 8 pm\, and Sunday 12 pm until 6 pm.
X-ALT-DESC;FMTTYPE=text/html:<p><span style="color:rgb(125\, 125\, 125)\; font-family:helveticaneue-light\,helvetica neue light\,helvetica neue\,helvetica\,arial\,lucida grande\,sans-serif\; font-size:14.4px">Livermore Valley wineries celebrate the exciting crush season and 38 years of the Harvest Wine Celebration. Live Music\, Food Vendor\, and Craft Vendor will be at Tesla location&nbsp\;</span><br />\nTickets available through <span style="color:rgb(246\, 85\, 85)">LVWINE.ORG</span>&nbsp\;</p>\n\n<p>Visit us at either location and enjoy the festivities. <strong>Tesla Location Hours</strong>: Friday and Sunday 12 pm until 5 pm\, Saturday 12 pm until 6 pm.&nbsp\;<strong>Earhart Location Hours</strong>: Friday 4 pm until 8 pm\, Saturday 12 pm until 8 pm\, and Sunday 12 pm until 6 pm.</p>\n
LOCATION:
UID:e.3178.2849
SEQUENCE:3
DTSTAMP:20260424T081238Z
URL:https://business.livermorechamber.org/events/details/harvest-wine-celebration-09-01-2019-2849
END:VEVENT

END:VCALENDAR
