BEGIN:VCALENDAR
VERSION:2.0
PRODID:-//ChamberMaster//Event Calendar 2.0//EN
METHOD:PUBLISH
X-PUBLISHED-TTL:P3D
REFRESH-INTERVAL:P3D
CALSCALE:GREGORIAN
BEGIN:VEVENT
DTSTART:20251206T200000Z
DTEND:20251207T003000Z
X-MICROSOFT-CDO-ALLDAYEVENT:FALSE
SUMMARY:Holiday in the Vineyarda at McGrail
DESCRIPTION:Holiday in the Vineyards at McGrail\n\nSaturday\, December 6th & Sunday\, December 7th\n\n12:00-4:30PM\n\nJoin us for a joyful holiday weekend at McGrail Winery\, where the spirit of the season comes alive with local vendors\, live music\, and of course\, fantastic wine! This complimentary event invites you to stroll through our festive vendor pop-ups\, offering unique gifts and holiday finds from talented local artisans.\n\nAs you shop\, relax with a glass or bottle of McGrail wine - available for purchase to enjoy as you take in the lively atmosphere. Whether you're in the mood for a cozy glass of wine or a fun afternoon out\, this event has something for everyone! We will be collecting Toys for Tots collection\, so bring a new toy & receive a bonus splash of wine!\n\nSoleil Wood Fired Pizza will be on-site serving up delicious pizza\, so you can grab a bite while enjoying the holiday cheer. Rain or shine\, we'll be celebrating\, so layer up and get ready for a fun weekend in the vineyards!\n\nThis event is the perfect way to sip\, shop\, and get into the holiday spirit while supporting local businesses. Bring your friends\, enjoy the wine\, and make some holiday memories with us!\n\nLIVE MUSIC & FOOD TRUCK\n\nSaturday | Loren O | Soleil Wood Fired Pizza\n\nSunday | Sugar Bear & Friends | Soleil Wood Fired Pizza\n \n\nVENDOR POP-UPS\n\nMcGrail\, MudPie\, & Terrapin Ridge (Saturday & Sunday) [McGrail merchandise\, MudPie homegoods\, & Terrapin Ridge dips and spreads]\n\nMcGrail ROOTS Subscription Table (Saturday & Sunday)\n\nAura Boutique (Saturday & Sunday)\n\nMielke Mudd Pottery (Saturday & Sunday)\n\nEl Sayed Estate Olive Oil (Saturday & Sunday)\n\nJackman Styles (Saturday & Sunday) [Custom engraved glassware & other gift items]\n\nSparkley.Co (Saturday & Sunday)\n\nDemeter's Dreams (Saturday & Sunday)\n\nWilde Luck Hat Bar (Saturday & Sunday)\n\nTiedye Qween (Saturday & Sunday)\n\nShimmer Chef Beauty (Saturday & Sunday)\n\nJTM in the Kitchen (Saturday & Sunday)\n\nButter & Batter Cookies (Saturday)\n\nWild J Designs (Saturday) \n\nPaulina Lang Design (Sunday)\n\nLucky Goldie (Sunday)\n \n\nEntry is complimentary!\n\n*Walk-ups are welcome!
X-ALT-DESC;FMTTYPE=text/html:<p><span style="font-size:16px\;"><strong>Holiday in the Vineyards&nbsp\;at McGrail</strong></span></p>\n\n<p><span style="font-size:16px\;"><span style="background-color: transparent\; color: rgb(0\, 0\, 0)\; font-family: &quot\;times new roman&quot\;\, serif\;">Saturday\, December 6th &amp\; Sunday\, December 7th</span></span></p>\n\n<p><span style="font-size:16px\;"><span style="background-color: transparent\; color: rgb(0\, 0\, 0)\; font-family: &quot\;times new roman&quot\;\, serif\;">12:00-4:30PM</span></span></p>\n\n<p><span style="font-size:16px\;"><span style="background-color: transparent\; color: rgb(0\, 0\, 0)\; font-family: &quot\;times new roman&quot\;\, serif\;">Join us for a joyful holiday weekend at McGrail Winery\, where the spirit of the season comes alive with local vendors\, live music\, and of course\, fantastic wine! This complimentary event invites you to stroll through our festive vendor pop-ups\, offering unique gifts and holiday finds from talented local artisans.</span></span></p>\n\n<p><span style="font-size:16px\;"><span style="background-color: transparent\; color: rgb(0\, 0\, 0)\; font-family: &quot\;times new roman&quot\;\, serif\;">As you shop\, relax with a glass or bottle of McGrail wine - available for purchase to enjoy as you take in the lively atmosphere. Whether you&#39\;re in the mood for a cozy glass of wine or a fun afternoon out\, this event has something for everyone! We will be collecting Toys for Tots collection\, so bring a new toy &amp\; receive a bonus splash of wine!</span></span></p>\n\n<p><span style="font-size:16px\;"><span style="background-color: transparent\; color: rgb(0\, 0\, 0)\; font-family: &quot\;times new roman&quot\;\, serif\;">Soleil Wood Fired Pizza will be on-site serving up delicious pizza\, so you can grab a bite while enjoying the holiday cheer. Rain or shine\, we&#39\;ll be celebrating\, so layer up and get ready for a fun weekend in the vineyards!</span></span></p>\n\n<p><span style="font-size:16px\;"><span style="background-color: transparent\; color: rgb(0\, 0\, 0)\; font-family: &quot\;times new roman&quot\;\, serif\;">This event is the perfect way to sip\, shop\, and get into the holiday spirit while supporting local businesses. Bring your friends\, enjoy the wine\, and make some holiday memories with us!</span></span></p>\n\n<p><span style="font-size:16px\;"><em>LIVE MUSIC &amp\; FOOD TRUCK</em></span></p>\n\n<p><span style="font-size:16px\;"><em>Saturday | Loren O | Soleil Wood Fired Pizza</em></span></p>\n\n<p><span style="font-size:16px\;"><em>Sunday | Sugar Bear &amp\; Friends | Soleil Wood Fired Pizza</em></span></p>\n&nbsp\;\n\n<p><span style="font-size:16px\;"><em>VENDOR POP-UPS</em></span></p>\n\n<p><span style="font-size:16px\;"><span style="background-color: transparent\; color: rgb(0\, 0\, 0)\; font-family: &quot\;times new roman&quot\;\, serif\;">McGrail\, MudPie\, &amp\; Terrapin Ridge (Saturday &amp\; Sunday) [McGrail merchandise\, MudPie homegoods\, &amp\; Terrapin Ridge dips and spreads]</span></span></p>\n\n<p><span style="font-size:16px\;"><span style="background-color: transparent\; color: rgb(0\, 0\, 0)\; font-family: &quot\;times new roman&quot\;\, serif\;">McGrail ROOTS Subscription Table (Saturday &amp\; Sunday)</span></span></p>\n\n<p><span style="font-size:16px\;"><a href="https://shopauraofficial.com/?fbclid=PAZXh0bgNhZW0CMTEAAacmz37vgcfG1mZfDiyq9nJX8EF6Oh5TaFGNR3NvuzXwJYawMYBSw59QwIMKeA_aem_iYJF8f-aj27d3czBhwZfNg" style="text-decoration-line: none\;"><span style="background-color: transparent\; color: rgb(0\, 0\, 0)\; font-family: &quot\;times new roman&quot\;\, serif\;">Aura Boutique</span></a><span style="background-color: transparent\; color: rgb(0\, 0\, 0)\; font-family: &quot\;times new roman&quot\;\, serif\;"> (Saturday &amp\; Sunday)</span></span></p>\n\n<p><span style="font-size:16px\;"><a href="https://www.mielkemudd.com/" style="text-decoration-line: none\;"><span style="background-color: transparent\; color: rgb(0\, 0\, 0)\; font-family: &quot\;times new roman&quot\;\, serif\;">Mielke Mudd Pottery</span></a><span style="background-color: transparent\; color: rgb(0\, 0\, 0)\; font-family: &quot\;times new roman&quot\;\, serif\;"> (Saturday &amp\; Sunday)</span></span></p>\n\n<p><span style="font-size:16px\;"><a href="https://www.instagram.com/elsayedestate.oliveoil/?hl=en" style="text-decoration-line: none\;"><span style="background-color: transparent\; color: rgb(0\, 0\, 0)\; font-family: &quot\;times new roman&quot\;\, serif\;">El Sayed Estate Olive Oil</span></a><span style="background-color: transparent\; color: rgb(0\, 0\, 0)\; font-family: &quot\;times new roman&quot\;\, serif\;"> (Saturday &amp\; Sunday)</span></span></p>\n\n<p><span style="font-size:16px\;"><span style="background-color: transparent\; color: rgb(0\, 0\, 0)\; font-family: &quot\;times new roman&quot\;\, serif\;">Jackman Styles (Saturday &amp\; Sunday) [Custom engraved glassware &amp\; other gift items]</span></span></p>\n\n<p><span style="font-size:16px\;"><a href="http://sparkley.co" style="text-decoration-line: none\;"><span style="background-color: transparent\; color: rgb(0\, 0\, 0)\; font-family: &quot\;times new roman&quot\;\, serif\;">Sparkley.Co</span></a><span style="background-color: transparent\; color: rgb(0\, 0\, 0)\; font-family: &quot\;times new roman&quot\;\, serif\;"> (Saturday &amp\; Sunday)</span></span></p>\n\n<p><span style="font-size:16px\;"><a href="https://demetersdreams.com/" style="text-decoration-line: none\;"><span style="background-color: transparent\; color: rgb(0\, 0\, 0)\; font-family: &quot\;times new roman&quot\;\, serif\;">Demeter&#39\;s Dreams</span></a><span style="background-color: transparent\; color: rgb(0\, 0\, 0)\; font-family: &quot\;times new roman&quot\;\, serif\;"> (Saturday &amp\; Sunday)</span></span></p>\n\n<p><span style="font-size:16px\;"><a href="https://wildeluck.com/" style="text-decoration-line: none\;"><span style="background-color: transparent\; color: rgb(0\, 0\, 0)\; font-family: &quot\;times new roman&quot\;\, serif\;">Wilde Luck Hat Bar</span></a><span style="background-color: transparent\; color: rgb(0\, 0\, 0)\; font-family: &quot\;times new roman&quot\;\, serif\;"> (Saturday &amp\; Sunday)</span></span></p>\n\n<p><span style="font-size:16px\;"><a href="https://www.instagram.com/tiedyeqween/" style="text-decoration-line: none\;"><span style="background-color: transparent\; color: rgb(0\, 0\, 0)\; font-family: &quot\;times new roman&quot\;\, serif\;">Tiedye Qween</span></a><span style="background-color: transparent\; color: rgb(0\, 0\, 0)\; font-family: &quot\;times new roman&quot\;\, serif\;"> (Saturday &amp\; Sunday)</span></span></p>\n\n<p><span style="font-size:16px\;"><a href="https://www.shimmerchef.com/" style="text-decoration-line: none\;"><span style="background-color: transparent\; color: rgb(0\, 0\, 0)\; font-family: &quot\;times new roman&quot\;\, serif\;">Shimmer Chef Beauty</span></a><span style="background-color: transparent\; color: rgb(0\, 0\, 0)\; font-family: &quot\;times new roman&quot\;\, serif\;"> (Saturday &amp\; Sunday)</span><br />\n<a href="https://www.instagram.com/jtm_inthekitchen/" style="text-decoration-line: none\;"><span style="background-color: transparent\; color: rgb(0\, 0\, 0)\; font-family: &quot\;times new roman&quot\;\, serif\;">JTM in the Kitchen</span></a><span style="background-color: transparent\; color: rgb(0\, 0\, 0)\; font-family: &quot\;times new roman&quot\;\, serif\;"> (Saturday &amp\; Sunday)</span></span></p>\n\n<p><span style="font-size:16px\;"><a href="https://butterandbatter.com/" style="text-decoration-line: none\;"><span style="background-color: transparent\; color: rgb(0\, 0\, 0)\; font-family: &quot\;times new roman&quot\;\, serif\;">Butter &amp\; Batter Cookies</span></a><span style="background-color: transparent\; color: rgb(0\, 0\, 0)\; font-family: &quot\;times new roman&quot\;\, serif\;"> (Saturday)</span></span></p>\n\n<p><span style="font-size:16px\;"><a href="https://www.instagram.com/wildjdesigns/" style="text-decoration-line: none\;"><span style="background-color: transparent\; color: rgb(0\, 0\, 0)\; font-family: &quot\;times new roman&quot\;\, serif\;">Wild J Designs</span></a><span style="background-color: transparent\; color: rgb(0\, 0\, 0)\; font-family: &quot\;times new roman&quot\;\, serif\;"> (Saturday)&nbsp\;</span></span></p>\n\n<p><span style="font-size:16px\;"><a href="https://www.instagram.com/paulinalangdesign/?hl=en" style="text-decoration-line: none\;"><span style="background-color: transparent\; color: rgb(0\, 0\, 0)\; font-family: &quot\;times new roman&quot\;\, serif\;">Paulina Lang Design</span></a><span style="background-color: transparent\; color: rgb(0\, 0\, 0)\; font-family: &quot\;times new roman&quot\;\, serif\;"> (Sunday)</span></span></p>\n\n<p><span style="font-size:16px\;"><a href="https://www.luckygoldie.com/" style="text-decoration-line: none\;"><span style="background-color: transparent\; color: rgb(0\, 0\, 0)\; font-family: &quot\;times new roman&quot\;\, serif\;">Lucky Goldie</span></a><span style="background-color: transparent\; color: rgb(0\, 0\, 0)\; font-family: &quot\;times new roman&quot\;\, serif\;"> (Sunday)</span></span></p>\n<span style="font-size:16px\;">&nbsp\;</span>\n\n<p><span style="font-size:16px\;"><span style="background-color: transparent\; color: rgb(0\, 0\, 0)\; font-family: &quot\;times new roman&quot\;\, serif\;">Entry is complimentary!</span></span></p>\n\n<p><span style="font-size:16px\;"><em>*Walk-ups are welcome!&nbsp\;</em></span></p>\n
LOCATION:McGrail Vineyards 5600 Greenville Road Livermore\, CA 94550
UID:e.3178.8400
SEQUENCE:3
DTSTAMP:20260421T131846Z
URL:https://business.livermorechamber.org/events/details/holiday-in-the-vineyarda-at-mcgrail-8400
END:VEVENT

END:VCALENDAR
