BEGIN:VCALENDAR
VERSION:2.0
PRODID:-//ChamberMaster//Event Calendar 2.0//EN
METHOD:PUBLISH
X-PUBLISHED-TTL:P3D
REFRESH-INTERVAL:P3D
CALSCALE:GREGORIAN
BEGIN:VEVENT
DTSTART:20200929T170000Z
DTEND:20200929T180000Z
X-MICROSOFT-CDO-ALLDAYEVENT:FALSE
SUMMARY:How to Get New Clients With Your Website (Free online workshop)
DESCRIPTION:Attention coaches\, consultants and advisors:\n\nIt's a fact that most websites don't generate new business!\nIn this workshop\, I'll teach you the 5 features that your website must have to get new clients to come in the door.\n\n\n\nAre you completely frustrated because you paid a bunch of money for your website or you built it yourself\, and all it does is sit there like a pretty brochure? Believe me\, you're not alone\, and I can help you!\n\n\n\nIn this workshop\, I will walk you step-by-step through:\n\n	The 5 must-have features your website needs to turn anonymous traffic into new clients.\n	The psychology behind WHY people aren't engaging and how to fix it fast!\n	The 3 limiting beliefs that keep us from using our website as a true marketing system to get new business automatically.\n\n92% of all consultant websites are missing most of the features that generate new clients. This actually turns away business (and I'll prove it in the live workshop). Your phone doesn't ring\, you don't get inquiries\, and all you hear is crickets. This means you have to hustle (and I mean HUSTLE) in other ways to make up for it.\n\n\n\nLet me show you a different reality.\n\n\n\nFree workshop: Register Here
X-ALT-DESC;FMTTYPE=text/html:<h1>Attention coaches\, consultants and advisors:</h1>\n\n<h2><strong>It&rsquo\;s a fact that most websites don&rsquo\;t generate new business!</strong></h2>\nIn this workshop\, I&rsquo\;ll teach you the <strong>5 features that your website must have</strong> to get new clients to come in the door.<br />\n<br />\nAre you completely frustrated because you paid a bunch of money for your website or you built it yourself\, and all it does is sit there like a pretty brochure? Believe me\, you&rsquo\;re not alone\, and I can help you!<br />\n<br />\nIn this workshop\, I will walk you step-by-step through:\n<ul>\n	<li>The 5 must-have features your website needs to turn anonymous traffic into new clients.</li>\n	<li>The psychology behind WHY people aren&rsquo\;t engaging and how to fix it fast!</li>\n	<li>The 3 limiting beliefs that keep us from using our website as a true marketing system to get new business automatically.</li>\n</ul>\n<strong>92% of all consultant websites are missing most of the features that generate new clients.</strong> This actually turns away business (and I&rsquo\;ll prove it in the live workshop). Your phone doesn&rsquo\;t ring\, you don&rsquo\;t get inquiries\, and all you hear is crickets. This means you have to hustle (and I mean HUSTLE) in other ways to make up for it.<br />\n<br />\nLet me show you a different reality.<br />\n<br />\n<strong>Free workshop</strong>: <a href="https://thomaspetty.com/how-to-generate-leads-training/?utm_source=lvcc&amp\;utm_medium=referral&amp\;utm_campaign=2020-09" target="_blank">Register Here</a>
LOCATION:Online (Zoom) Register here
UID:e.3178.3219
SEQUENCE:3
DTSTAMP:20260423T124427Z
URL:https://business.livermorechamber.org/events/details/how-to-get-new-clients-with-your-website-free-online-workshop-3219
END:VEVENT

END:VCALENDAR
