BEGIN:VCALENDAR
VERSION:2.0
PRODID:-//ChamberMaster//Event Calendar 2.0//EN
METHOD:PUBLISH
X-PUBLISHED-TTL:P3D
REFRESH-INTERVAL:P3D
CALSCALE:GREGORIAN
BEGIN:VEVENT
DTSTART;VALUE=DATE:20240619
DTEND;VALUE=DATE:20240620
TRANSP:TRANSPARENT
X-MICROSOFT-CDO-ALLDAYEVENT:TRUE
SUMMARY:Juneteenth Holiday - LVCC Office Closed
DESCRIPTION:Juneteenth\, a day commemorating the end of slavery in the United States\, is celebrated annually by African Americans around the country. Dive into the meaning of the Juneteenth flag and other traditions carried out on the holiday.\n\n\n\nIn observance of the Juneteenth Holiday\, the LVCC office is closed on Wednesday\,\n\nJune 19\, 2024.
X-ALT-DESC;FMTTYPE=text/html:<span style="font-size:14px\;"><span style="font-family:verdana\;"><span style="color: rgb(0\, 0\, 0)\; text-align: center\;">Juneteenth\, a day commemorating the end of slavery in the United States\, is celebrated annually by African Americans around the country. Dive into the meaning of the Juneteenth flag and other traditions carried out on the holiday.</span><br />\n<br />\nIn observance of the Juneteenth Holiday\, the LVCC office is closed on Wednesday\,<br />\nJune 19\, 2024.</span></span>
LOCATION:
UID:e.3178.5687
SEQUENCE:3
DTSTAMP:20260424T183427Z
URL:https://business.livermorechamber.org/events/details/juneteenth-holiday-lvcc-office-closed-5687
END:VEVENT

END:VCALENDAR
