BEGIN:VCALENDAR
VERSION:2.0
PRODID:-//ChamberMaster//Event Calendar 2.0//EN
METHOD:PUBLISH
X-PUBLISHED-TTL:P3D
REFRESH-INTERVAL:P3D
CALSCALE:GREGORIAN
BEGIN:VEVENT
DTSTART;VALUE=DATE:20200215
DTEND;VALUE=DATE:20200216
TRANSP:TRANSPARENT
X-MICROSOFT-CDO-ALLDAYEVENT:TRUE
SUMMARY:Livermore School of Dance Jazz Company Presents "World of Imagination" - A Magical Dance Revue
DESCRIPTION:Livermore School of Dance Jazz Company\, presents "World of Imagination"\, a Magical Dance Revue directed by Liz Roberts.   An entertaining and fun family performance for all ages to enjoy.  The dance performance will include many genres of dance including jazz\, tap\, hip hop\, modern\, contemporary lyrical and musical theater.  The theme of the show is based around imagination and will include many Disney themed dances.  A variety of music will be used including many popular Disney classical and contemporary songs.  Bright and fun costumes will fill up the stage along with beautiful imagery\, lights\, props and scenery.  This is a family performance for all to enjoy.
X-ALT-DESC;FMTTYPE=text/html:<span style="color:#222222"><span style="font-family:tahoma\,sans-serif"><span style="font-size:12.0pt">Livermore School of Dance Jazz Company\, presents &ldquo\;World of Imagination&rdquo\;\, a Magical Dance Revue directed by Liz Roberts. &nbsp\;&nbsp\;An entertaining and fun family performance for all ages to enjoy.&nbsp\; The dance performance will include many genres of dance including jazz\, tap\, hip hop\, modern\, contemporary lyrical and musical theater.&nbsp\; The theme of the show is based around imagination and will include many Disney themed dances.&nbsp\; A variety of music will be used including many popular Disney classical and contemporary songs.&nbsp\; Bright and fun costumes will fill up the stage along with beautiful imagery\, lights\, props and scenery.&nbsp\; This is a family performance for all to enjoy.</span></span></span>
LOCATION:Bankhead Theater 2400 First Street Livermore\, CA 94550
UID:e.3178.2925
SEQUENCE:3
DTSTAMP:20260424T004609Z
URL:https://business.livermorechamber.org/events/details/livermore-school-of-dance-jazz-company-presents-world-of-imagination-a-magical-dance-revue-2925
END:VEVENT

END:VCALENDAR
