BEGIN:VCALENDAR
VERSION:2.0
PRODID:-//ChamberMaster//Event Calendar 2.0//EN
METHOD:PUBLISH
X-PUBLISHED-TTL:P3D
REFRESH-INTERVAL:P3D
CALSCALE:GREGORIAN
BEGIN:VEVENT
DTSTART:20190929T023000Z
DTEND:20191007T053000Z
X-MICROSOFT-CDO-ALLDAYEVENT:FALSE
SUMMARY:Livermore Valley Opera presents Tchaikovsky's Eugene Onegin
DESCRIPTION:A Letter\, A Duel and Unfulfilled Love\n\n\n\nEugene Onegin\, Tchaikovsky's most loved opera\, filled with sweepingly beautiful music and bittersweet drama. This is sung in Russian with English supertitles so you will always understand the story as it unfolds.  An internationally acclaimed cast and full orchestration make this a must see event.\n\n\n\nOPERA DATES\n\nSaturday\, September 28 at 7:30 pm\n\nSunday\, September 29 at 2:00 pm\n\nSaturday\, October 5 at 7:30 pm\n\nSunday\, October 6 at 2:00 pm
X-ALT-DESC;FMTTYPE=text/html:<strong>A Letter\, A Duel and Unfulfilled Love</strong><br />\n<br />\nEugene Onegin\, Tchaikovsky&#39\;s most loved opera\, filled with sweepingly beautiful music and bittersweet drama. This is sung in Russian with English supertitles so you will always understand the story as it unfolds.&nbsp\; An internationally acclaimed cast and full orchestration make this a must see event.<br />\n<br />\n<strong>OPERA DATES</strong><br />\nSaturday\, September 28 at 7:30 pm<br />\nSunday\, September 29 at 2:00 pm<br />\nSaturday\, October 5 at 7:30 pm<br />\nSunday\, October 6 at 2:00 pm<br />\n&nbsp\;
LOCATION:Bankhead Theater 2400 First Street Livermore\, CA
UID:e.3178.2853
SEQUENCE:3
DTSTAMP:20260424T063921Z
URL:https://business.livermorechamber.org/events/details/livermore-valley-opera-presents-tchaikovsky-s-eugene-onegin-2853
END:VEVENT

END:VCALENDAR
