BEGIN:VCALENDAR
VERSION:2.0
PRODID:-//ChamberMaster//Event Calendar 2.0//EN
METHOD:PUBLISH
X-PUBLISHED-TTL:P3D
REFRESH-INTERVAL:P3D
CALSCALE:GREGORIAN
BEGIN:VEVENT
DTSTART:20260130T033000Z
DTEND:20260130T050000Z
X-MICROSOFT-CDO-ALLDAYEVENT:FALSE
SUMMARY:Louise Leakey: Digging for Humanity's Origins
DESCRIPTION:Speaker. Homo Sapiens. Fossil Seeker.\n\nThe burning question that consumes Louise Leakey born in Africa and heir to the famed Leakey dynasty of fossil seekers is\, "How is it that Homo Sapiens are the only surviving species out of the genus Homo\; the upright ape species that have called Earth home over the past 8 million years?"
X-ALT-DESC;FMTTYPE=text/html:<p><span style="font-size:16px\;"><em>Speaker. Homo Sapiens. Fossil Seeker.</em></span></p>\n\n<p><span style="font-size:16px\;">The burning question that consumes&nbsp\;<em>Louise Leakey</em>&mdash\;born in Africa and heir to the famed Leakey dynasty of fossil seekers&mdash\;is\, &ldquo\;How is it that&nbsp\;<em>Homo Sapiens</em>&nbsp\;are the only surviving species out of the genus Homo\; the upright ape species that have called Earth home over the past 8 million years?&rdquo\;</span></p>\n
LOCATION:Bankhead Theater 2400 1st St. Livermore\, CA 94550
UID:e.3178.8419
SEQUENCE:3
DTSTAMP:20260421T131837Z
URL:https://business.livermorechamber.org/events/details/louise-leakey-digging-for-humanity-s-origins-8419
END:VEVENT

END:VCALENDAR
