BEGIN:VCALENDAR
VERSION:2.0
PRODID:-//ChamberMaster//Event Calendar 2.0//EN
METHOD:PUBLISH
X-PUBLISHED-TTL:P3D
REFRESH-INTERVAL:P3D
CALSCALE:GREGORIAN
BEGIN:VEVENT
DTSTART:20190724T150000Z
DTEND:20190724T163000Z
X-MICROSOFT-CDO-ALLDAYEVENT:FALSE
SUMMARY:LVCC Board of Directors Meeting
DESCRIPTION:Our Board of Directors establish goals and priorities\, and set policies for the organization.\n\nChair:  Steve Larranage\, Sandia Laboratory Federal Credit Union
X-ALT-DESC;FMTTYPE=text/html:Our Board of Directors establish goals and priorities\, and set policies for the organization.<br />\nChair:&nbsp\; Steve Larranage\, <a href="https://www.google.com/search?q=sandia+laboratory+fedaral+credit+union&amp\;oq=sandia+lab&amp\;aqs=chrome.0.69i59l2j0j69i57j0l2.2687j0j4&amp\;sourceid=chrome&amp\;ie=UTF-8">Sandia Laboratory Federal Credit Union</a>
LOCATION:This is a closed meeting
UID:e.3178.2098
SEQUENCE:3
DTSTAMP:20260424T111105Z
URL:https://business.livermorechamber.org/events/details/lvcc-board-of-directors-meeting-2098
END:VEVENT

END:VCALENDAR
