BEGIN:VCALENDAR
VERSION:2.0
PRODID:-//ChamberMaster//Event Calendar 2.0//EN
METHOD:PUBLISH
X-PUBLISHED-TTL:P3D
REFRESH-INTERVAL:P3D
CALSCALE:GREGORIAN
BEGIN:VEVENT
DTSTART:20190828T150000Z
DTEND:20190828T163000Z
X-MICROSOFT-CDO-ALLDAYEVENT:FALSE
SUMMARY:LVCC Board of Directors Meeting
DESCRIPTION:Our Board of Directors establish goals and priorities\, and set policies for the organization.\n\nChair:  Steve Larranaga\, Sandia Laboratory Federal Credit Union
X-ALT-DESC;FMTTYPE=text/html:Our Board of Directors establish goals and priorities\, and set policies for the organization.<br />\nChair:&nbsp\; Steve Larranaga\, <a href="https://www.slfcu.org/">Sandia Laboratory Federal Credit Union</a>
LOCATION:This is a closed meeting
UID:e.3178.2100
SEQUENCE:3
DTSTAMP:20260424T094604Z
URL:https://business.livermorechamber.org/events/details/lvcc-board-of-directors-meeting-2100
END:VEVENT

END:VCALENDAR
