BEGIN:VCALENDAR
VERSION:2.0
PRODID:-//ChamberMaster//Event Calendar 2.0//EN
METHOD:PUBLISH
X-PUBLISHED-TTL:P3D
REFRESH-INTERVAL:P3D
CALSCALE:GREGORIAN
BEGIN:VEVENT
DTSTART;VALUE=DATE:20220630
DTEND;VALUE=DATE:20220701
TRANSP:TRANSPARENT
X-MICROSOFT-CDO-ALLDAYEVENT:TRUE
SUMMARY:LVCC Golf Tournament 2022
DESCRIPTION:LVCC 3rd Annual Golf Tournament at The Course at Wente Vineyards!\n\n\n\nJoin us at the beautiful Course at Wente Vineyards on Thursday\, June 30. The tournament will follow all mandated COVID-19 health requirements\, in effect at time of event.\n\n\n\nGolf Registration\n\n\n	\n	$225 per Person\n	\n	\n	$900 per Foursome\n	\n	\n	Includes cart\, box lunch\n	\n	\n	Includes golf reception\n	\n	\n	Includes 2 drink tickets and 5 drawing tickets\n	\n\n\nAvailable Sponsorship Opportunities \n\n\n	\n	$2500 Lunch Sponsor (1) Includes cooler bags with your logo filled with lunch & water\, logo on collateral.\n	\n	\n	$2000 Hat Sponsor (1) LVCC provided hats with LVCC and your logo in golfer swag bag.\n	\n	\n	$2000 Tote Bag Sponsor (1) LVCC provided fabric tote bags with your logo filled with golfer swag.\n	\n	\n	$1500 Birdie Sponsor (Unlimited) Includes a foursome\, 2 Tee signs\, 2 cart signs\, third largest font logo on collateral.\n	\n	\n	$500 Premier Hole Sponsor (17) Ability to setup tent and table at tee box\, distribute literature\, trinkets\, snacks\, drinks\, etc.\n	\n	\n	$100 Hole Sponsor (Unlimited) Sign at tee box. There may be up to 4 other sponsors on the hole depending on demand.\n	\n\n\nContest Hole Sponsor - Sign at tee box and recognition on award certificate\n\n\n	\n	$500 Putting Contest (1)\n	\n	\n	$300 Closest to the pin men's \n	\n	\n	$300 Longest drive women's\n	\n	\n	Swag Bag Donation Open to all LVCC members and sponsors to add your company goodies to the swag bags. Must provide 150 units to LVCC staff at least 14 days prior to event. Please confirm item with LVCC staff before donating.
X-ALT-DESC;FMTTYPE=text/html:<p><span style="font-family:verdana\;"><span style="font-size:14px\;">LVCC 3rd Annual Golf Tournament at The Course at Wente Vineyards!</span><br />\n<br />\n<span style="color: rgb(51\, 51\, 51)\; font-size: 14px\; background-color: rgb(255\, 255\, 255)\;">Join us at the beautiful Course at Wente Vineyards on Thursday\, June 30. The tournament will follow all mandated COVID-19 health requirements\, in effect at time of event.</span><br />\n<br />\n<strong font-size:="" style="color: rgb(51\, 51\, 51)\; font-family: sans-serif\, Arial\, Verdana\, " trebuchet="">Golf Registration</strong></span></p>\n\n<ul font-size:="" style="padding: 0px 40px\; color: rgb(51\, 51\, 51)\; font-family: sans-serif\, Arial\, Verdana\, " trebuchet="">\n	<li>\n	<p><span style="font-family:verdana\;">$225 per Person</span></p>\n	</li>\n	<li>\n	<p><span style="font-family:verdana\;">$900 per Foursome</span></p>\n	</li>\n	<li>\n	<p><span style="font-family:verdana\;">Includes cart\, box lunch</span></p>\n	</li>\n	<li>\n	<p><span style="font-family:verdana\;">Includes&nbsp\;golf reception</span></p>\n	</li>\n	<li>\n	<p><span style="font-family:verdana\;">Includes 2 drink tickets and 5 drawing tickets</span></p>\n	</li>\n</ul>\n\n<p><span style="font-family:verdana\;"><strong font-size:="" style="color: rgb(51\, 51\, 51)\; font-family: sans-serif\, Arial\, Verdana\, " trebuchet="">Available Sponsorship Opportunities</strong><span background-color:="" font-size:="" style="color: rgb(51\, 51\, 51)\; font-family: sans-serif\, Arial\, Verdana\, " trebuchet="">&#8203\;</span></span></p>\n\n<ul font-size:="" style="padding: 0px 40px\; color: rgb(51\, 51\, 51)\; font-family: sans-serif\, Arial\, Verdana\, " trebuchet="">\n	<li>\n	<p><span style="font-family:verdana\;">$2500 Lunch Sponsor (1) Includes cooler bags with your logo filled with lunch &amp\; water\, logo on collateral.</span></p>\n	</li>\n	<li>\n	<p><span style="font-family:verdana\;">$2000 Hat Sponsor (1) LVCC provided hats with LVCC and your logo in golfer swag bag.</span></p>\n	</li>\n	<li>\n	<p><span style="font-family:verdana\;">$2000 Tote Bag Sponsor (1) LVCC provided fabric tote bags with your logo filled with golfer swag.</span></p>\n	</li>\n	<li>\n	<p><span style="font-family:verdana\;">$1500 Birdie Sponsor (Unlimited) Includes a foursome\, 2 Tee signs\, 2 cart signs\, third largest font logo on collateral.</span></p>\n	</li>\n	<li>\n	<p><span style="font-family:verdana\;">$500 Premier Hole Sponsor (17) Ability to setup tent and table at tee box\, distribute literature\, trinkets\, snacks\, drinks\, etc.</span></p>\n	</li>\n	<li>\n	<p><span style="font-family:verdana\;">$100 Hole Sponsor (Unlimited) Sign at tee box. There may be up to 4 other sponsors on the hole depending on demand.</span></p>\n	</li>\n</ul>\n\n<p><span style="font-family:verdana\;">Contest Hole Sponsor - Sign at tee box and recognition on award certificate</span></p>\n\n<ul font-size:="" style="padding: 0px 40px\; color: rgb(51\, 51\, 51)\; font-family: sans-serif\, Arial\, Verdana\, " trebuchet="">\n	<li>\n	<p><span style="font-family:verdana\;">$500 Putting Contest (1)</span></p>\n	</li>\n	<li>\n	<p><span style="font-family:verdana\;">$300 Closest to the pin men&#39\;s&nbsp\;</span></p>\n	</li>\n	<li>\n	<p><span style="font-family:verdana\;">$300 Longest drive women&#39\;s</span></p>\n	</li>\n	<li>\n	<p><span style="font-family:verdana\;">Swag Bag Donation Open to all LVCC members and sponsors to add your company goodies to the swag bags. Must provide 150 units to LVCC staff at least 14 days prior to event. Please confirm item with LVCC staff before donating.</span></p>\n	</li>\n</ul>\n\n<p>&nbsp\;</p>\n
LOCATION:The Course at Wente Vineyards 5040 Arroyo Road Livermore\, CA 94550
UID:e.3178.4531
SEQUENCE:3
DTSTAMP:20260421T143732Z
URL:https://business.livermorechamber.org/events/details/lvcc-golf-tournament-2022-4531
END:VEVENT

END:VCALENDAR
