BEGIN:VCALENDAR
VERSION:2.0
PRODID:-//ChamberMaster//Event Calendar 2.0//EN
METHOD:PUBLISH
X-PUBLISHED-TTL:P3D
REFRESH-INTERVAL:P3D
CALSCALE:GREGORIAN
BEGIN:VEVENT
DTSTART:20200805T180000Z
DTEND:20200805T200000Z
X-MICROSOFT-CDO-ALLDAYEVENT:FALSE
SUMMARY:Microsoft Azure Cloud and Teams Hands-On Lab Workshops
DESCRIPTION:Hands-on Training & Workshops\, August 2020\n\nWould you like to experience Microsoft Teams and learn how it can improve your company's productivity and team collaboration? Or perhaps you're thinking about making the move to Azure the last migration you'll ever do?\n\nZAG is pleased to sponsor exclusive\, hands-on virtual workshops by Microsoft trained facilitators with deep experience in Teams and Azure. The workshops are limited to 10 seats per session and include demo environments you will use on the day.\n\nRegister today and we look forward to showing how Microsoft solutions can transform your business.\n\nMicrosoft Teams Workshops\n\nLooking for a business communication platform that's more than just video? One that helps your team be more productive by providing a single view into their workday? Microsoft Teams is the answer: video\, chat\, calls\, calendar\, file sharing\, apps\, and much more.\n\nRegister for the August 5 session\n\nRegister for the August 19 session\n\nMicrosoft Azure Workshops\n\nAzure is a powerful platform that helps CFOs "never buy a server again"\, IT directors virtualize their server infrastructure and application environments\, and everyone else run Windows 10 virtual desktops at lightspeed on low spec hardware from home.\n\nRegister for the August 12 session\n\nRegister for the August 26 session\n\nNote: Space is limited to 10 participants per session for both Teams and Azure workshops. These are paid sessions sponsored by ZAG Technical Services (i.e. no cost to you).
X-ALT-DESC;FMTTYPE=text/html:<h2>Hands-on Training &amp\; Workshops\, August 2020</h2>\n\n<p>Would you like to experience Microsoft Teams and learn how it can improve your company&rsquo\;s productivity and team collaboration? Or perhaps you&rsquo\;re thinking about making the move to Azure the last migration you&rsquo\;ll ever do?</p>\n\n<p>ZAG is pleased to sponsor exclusive\, hands-on virtual workshops by Microsoft trained facilitators with deep experience in Teams and Azure. The workshops are limited to 10 seats per session and include demo environments you will use on the day.</p>\n\n<p>Register today and we look forward to showing how Microsoft solutions can transform your business.</p>\n\n<h3>Microsoft Teams Workshops</h3>\n\n<p>Looking for a business communication platform that&rsquo\;s more than just video? One that helps your team be more productive by providing a single view into their workday? Microsoft Teams is the answer: video\, chat\, calls\, calendar\, file sharing\, apps\, and much more.</p>\n\n<p><a href="https://www.eventbrite.com/e/114202552910">Register for the August 5 session</a></p>\n\n<p><a href="https://www.eventbrite.com/e/114202717402">Register for the August 19 session</a></p>\n\n<h3>Microsoft Azure Workshops</h3>\n\n<p>Azure is a powerful platform that helps CFOs &quot\;never buy a server again&quot\;\, IT directors virtualize their server infrastructure and application environments\, and everyone else run Windows 10 virtual desktops at lightspeed on low spec hardware from home.</p>\n\n<p><a href="https://www.eventbrite.com/e/114203058422">Register for the August 12 session</a></p>\n\n<p><a href="https://www.eventbrite.com/e/114203208872">Register for the August 26 session</a></p>\n\n<p>Note: <em>Space is limited to 10 participants per session for both Teams and Azure workshops. These are paid sessions <strong>sponsored by ZAG Technical Services</strong></em> (i.e. no cost to you).<br />\n&nbsp\;</p>\n
LOCATION:ONLINE
UID:e.3178.3077
SEQUENCE:3
DTSTAMP:20260423T143926Z
URL:https://business.livermorechamber.org/events/details/microsoft-azure-cloud-and-teams-hands-on-lab-workshops-3077
END:VEVENT

END:VCALENDAR
