BEGIN:VCALENDAR
VERSION:2.0
PRODID:-//ChamberMaster//Event Calendar 2.0//EN
METHOD:PUBLISH
X-PUBLISHED-TTL:P3D
REFRESH-INTERVAL:P3D
CALSCALE:GREGORIAN
BEGIN:VEVENT
DTSTART:20251210T164500Z
DTEND:20251210T174500Z
X-MICROSOFT-CDO-ALLDAYEVENT:FALSE
SUMMARY:Morning Business Booster - WINTER RECESS
DESCRIPTION:Chamber members host this event at various business locations and invite attendees to connect over coffee.  This is a networking & connection event for those early morning folks that want to connect to the community.
X-ALT-DESC;FMTTYPE=text/html:<span style="font-size:14px\;"><span style="font-family:verdana\;"><span style="font-size:16px\;">Chamber members host this event at various business locations and invite attendees to connect over coffee.&nbsp\; This is a networking &amp\; connection event for those early morning folks that want to connect to the community.</span></span></span><br />\n<br />\n<br />\n&nbsp\;
LOCATION:
UID:e.3178.6385
SEQUENCE:3
DTSTAMP:20260421T132204Z
URL:https://business.livermorechamber.org/events/details/morning-business-booster-winter-recess-6385
END:VEVENT

END:VCALENDAR
