BEGIN:VCALENDAR
VERSION:2.0
PRODID:-//ChamberMaster//Event Calendar 2.0//EN
METHOD:PUBLISH
X-PUBLISHED-TTL:P3D
REFRESH-INTERVAL:P3D
CALSCALE:GREGORIAN
BEGIN:VEVENT
DTSTART:20260101T030000Z
DTEND:20260101T053000Z
X-MICROSOFT-CDO-ALLDAYEVENT:FALSE
SUMMARY:New Year's Eve with Matt Axton & Badmoon
DESCRIPTION:Ring in the New Year in style at the Bankhead with a night of live music\, dancing\, and celebration featuring Matt Axton and Badmoon. Known for their rich\, genre-blending sound that fuses Americana\, blues\, folk\, and rock\, this powerhouse ensemble will deliver an unforgettable performance to close out 2025. Tickets are $175 per pair* and include:\n\n\n	Live music on stage by Matt Axton and Badmoon\n	Snacks and sweet treats\n	Bubbly toast at 9PM (East Coast midnight)\n\n\nDress to impress or go black tie glam your style sets the tone!\n\nDon't miss your chance to celebrate NYE in true Bankhead fashion full of heart\, soul\, and just the right amount of sparkle.
X-ALT-DESC;FMTTYPE=text/html:<p><span style="font-size:16px\;">Ring in the&nbsp\;New Year&nbsp\;in style at the Bankhead with a night of live music\, dancing\, and celebration featuring&nbsp\;<em>Matt Axton and Badmoon</em>. Known for their rich\, genre-blending sound that fuses Americana\, blues\, folk\, and rock\, this powerhouse ensemble will deliver an unforgettable performance to close out 2025. Tickets are $175 per pair* and include:</span></p>\n\n<ul>\n	<li><span style="font-size:16px\;">Live music on stage by&nbsp\;<em>Matt Axton and Badmoon</em></span></li>\n	<li><span style="font-size:16px\;">Snacks and sweet treats</span></li>\n	<li><span style="font-size:16px\;">Bubbly toast at 9PM (East Coast midnight)</span></li>\n</ul>\n\n<p><span style="font-size:16px\;">Dress to impress or go black tie glam&mdash\;your style sets the tone!<br />\nDon&rsquo\;t miss your chance to celebrate&nbsp\;NYE&nbsp\;in true Bankhead fashion&mdash\;full of heart\, soul\, and just the right amount of sparkle.</span></p>\n
LOCATION:Bankhead Theater 2400 1st St Livermore\, CA 94550
UID:e.3178.8443
SEQUENCE:3
DTSTAMP:20260421T132106Z
URL:https://business.livermorechamber.org/events/details/new-year-s-eve-with-matt-axton-badmoon-12-31-2025-8443
END:VEVENT

END:VCALENDAR
