BEGIN:VCALENDAR
VERSION:2.0
PRODID:-//ChamberMaster//Event Calendar 2.0//EN
METHOD:PUBLISH
X-PUBLISHED-TTL:P3D
REFRESH-INTERVAL:P3D
CALSCALE:GREGORIAN
BEGIN:VEVENT
DTSTART:20200324T020000Z
DTEND:20200324T040000Z
X-MICROSOFT-CDO-ALLDAYEVENT:FALSE
SUMMARY:Online - Athena Resing presents Enlightened Body: Decoding the BodyMind Connection
DESCRIPTION:This class will be offered ONLINE.\n\n\n\nLearn how to decode your body's messages for optimal health\, insight\, & clarity.\n\n\n\n\n\n\nOver the 5 week class we'll explore several systems for translating how your body speaks to you. Understanding this 'body language' will allow you to uncover the true cause of dis-ease and equip you to move forward into perfect health.\n\nWe'll also look at how essential oils aid the body into returning to a vibrant state.\n\nOur bodies are amazingly intelligent and complex systems created for the sole purpose of assisting us. Not only do they give us a vehicle to experience our world in\, they are also our most important and specialized feedback mechanism.\n\nPerfect health and enlightenment is our natural state of being. Our bodies know how to return to that state and their job is to redirect us back to our perfection. If we are engaged in thought and belief systems that aren't in our highest\, our bodies let us know. If we've held onto emotions and stuck patterns\, our bodies let us know. The cues are subtle at first- but as we ignore them the symptoms get louder and louder and sometimes present as debilitating disease. No judgment and blame here- how could we not ignore the body's cues and clues? We weren't taught to speak body- we were taught to go see the doctor.\n\nTurns out this is needless suffering\, because there are countless systems out there to help us translate our body's language. Over the course of this 5 week class\, we'll explore a few of these systems- empowering you be in fluent conversation with your body and to reclaim your health and wellbeing.\n\nHOSTED BY: April Gallagher**\n\nApril Gallagher is a Transformational Coach and Master Clutter-Clearer. For the past 20 years\, she has been committed to embodying Presence and facilitating "Practical Enlightenment" for others.\n\n \n\n**April Gallagher is not a doctor and this class in not intended to diagnose or treat any condition. The information in this class is not intended or implied to be a substitute for professional medical advice\, diagnosis or treatment. All content\, including text\, graphics\, images and information\, contained in or available through this class is for general purposes only.
X-ALT-DESC;FMTTYPE=text/html:<div>\n<div>\n<div>\n<div>\n<div><strong>This class will be offered ONLINE.<br />\n<br />\nLearn how to decode your body&#39\;s messages for optimal health\, insight\, &amp\; clarity.</strong></div>\n</div>\n</div>\n</div>\n</div>\n\n<div>\n<p>Over the 5 week class we&rsquo\;ll explore several systems for translating how your body speaks to you. Understanding this &lsquo\;body language&rsquo\; will allow you to uncover the true cause of dis-ease and equip you to move forward into perfect health.</p>\n\n<p>We&rsquo\;ll also look at how essential oils aid the body into returning to a vibrant state.</p>\n\n<p>Our bodies are amazingly intelligent and complex systems created for the sole purpose of assisting us. Not only do they give us a vehicle to experience our world in\, they are also our most important and specialized feedback mechanism.</p>\n\n<p>Perfect health and enlightenment is our natural state of being. Our bodies know how to return to that state and their job is to redirect us back to our perfection. If we are engaged in thought and belief systems that aren&rsquo\;t in our highest\, our bodies let us know. If we&rsquo\;ve held onto emotions and stuck patterns\, our bodies let us know. The cues are subtle at first- but as we ignore them the symptoms get louder and louder and sometimes present as debilitating disease. No judgment and blame here- how could we not ignore the body&rsquo\;s cues and clues? We weren&rsquo\;t taught to speak body- we were taught to go see the doctor.</p>\n\n<p>Turns out this is needless suffering\, because there are countless systems out there to help us translate our body&rsquo\;s language. Over the course of this 5 week class\, we&rsquo\;ll explore a few of these systems- empowering you be in fluent conversation with your body and to reclaim your health and wellbeing.</p>\n\n<p><strong>HOSTED BY</strong>:&nbsp\;<a href="http://www.aprilgallagher.com/" rel="nofollow noopener noreferrer" style="color: var(--eds-control\,#3659e3)\; text-decoration-line: none\; cursor: pointer\; background-color: transparent\;" target="_blank">April Gallagher</a>**</p>\n\n<p>April Gallagher is a Transformational Coach and Master Clutter-Clearer. For the past 20 years\, she has been committed to embodying Presence and facilitating &quot\;Practical Enlightenment&quot\; for others.</p>\n\n<p>&nbsp\;</p>\n\n<p>**April Gallagher is not a doctor and this class in not intended to diagnose or treat any condition. The information in this class is not intended or implied to be a substitute for professional medical advice\, diagnosis or treatment. All content\, including text\, graphics\, images and information\, contained in or available through this class is for general purposes only.</p>\n</div>\n
LOCATION:Athena Rising 4047 First Street\, Suite 101 Livermore\, CA 94551
UID:e.3178.3053
SEQUENCE:3
DTSTAMP:20260423T232847Z
URL:https://business.livermorechamber.org/events/details/online-athena-resing-presents-enlightened-body-decoding-the-bodymind-connection-3053
END:VEVENT

END:VCALENDAR
