BEGIN:VCALENDAR
VERSION:2.0
PRODID:-//ChamberMaster//Event Calendar 2.0//EN
METHOD:PUBLISH
X-PUBLISHED-TTL:P3D
REFRESH-INTERVAL:P3D
CALSCALE:GREGORIAN
BEGIN:VEVENT
DTSTART:20200325T020000Z
DTEND:20200325T030000Z
X-MICROSOFT-CDO-ALLDAYEVENT:FALSE
SUMMARY:Online - Athena Rising presents Own Your Expertise: A Resume Writing Workshop ONLINE
DESCRIPTION:This workshop will be offered online.\n\n\n\nLearn what to include and what to eliminate in a resume\, while elevating and marketing your professional brand.\n\nMany of us are looking for a new role or wanting to change careers\, but the thought of writing or what to include in a resume keeps us stuck from making our change.\n\nCome learn what to include in a resume\, what to eliminate\, and how to make yourself shine!\n\nPlease bring your latest resume (if you have one)\, along with any job descriptions for roles in which you'd like to apply.\n\nHOSTED BY: Yanira Guzman\n\nYour facilitator\, Yanira Guzman\, has 10+ years of experience in writing resumes and helping others land interviews. Her niche is working and coaching with women and people of color to accept their own professional value\, thus allowing others to see and honor their worth.\n\nCOST:  Free\n\nRSVP
X-ALT-DESC;FMTTYPE=text/html:<p><strong>This workshop will be offered online.<br />\n<br />\nLearn what to include and what to eliminate in a resume\, while elevating and marketing your professional brand.</strong></p>\n\n<p><span style="background-color:transparent\; color:rgb(34\, 34\, 34)\; font-family:arial\; font-size:11pt">Many of us are looking for a new role or wanting to change careers\, but the thought of writing or what to include in a resume keeps us stuck from making our change.</span></p>\n\n<p><span style="background-color:transparent\; color:rgb(34\, 34\, 34)\; font-family:arial\; font-size:11pt">Come learn what to include in a resume\, what to eliminate\, and how to make yourself shine!</span></p>\n\n<p><span style="background-color:transparent\; color:rgb(34\, 34\, 34)\; font-family:arial\; font-size:11pt">Please bring your latest resume (if you have one)\, along with any job descriptions for roles in which you&#39\;d like to apply.</span></p>\n\n<p><strong>HOSTED BY: </strong><a href="http://www.facebook.com/Yanira-Writes-101336398150003/?modal=admin_todo_tour" style="text-decoration-line: none\;"><strong>Yanira Guzman</strong></a></p>\n\n<p><span style="background-color:transparent\; color:rgb(34\, 34\, 34)\; font-family:arial\; font-size:11pt">Your facilitator\, Yanira Guzman\, has 10+ years of experience in writing resumes and helping others land interviews. Her niche is working and coaching with women and people of color to accept their own professional value\, thus allowing others to see and honor their worth.</span></p>\n\n<p><strong>COST</strong><span style="background-color:transparent\; color:rgb(34\, 34\, 34)\; font-family:arial\; font-size:11pt">:&nbsp\; Free<br />\n<a href="mailto:yaniraguzman.yg@gmail.com?subject=RSVP'ing%20for%20Resume%20Workshop">RSVP</a></span></p>\n
LOCATION:ONLINE
UID:e.3178.3049
SEQUENCE:3
DTSTAMP:20260423T231836Z
URL:https://business.livermorechamber.org/events/details/online-athena-rising-presents-own-your-expertise-a-resume-writing-workshop-online-3049
END:VEVENT

END:VCALENDAR
