BEGIN:VCALENDAR
VERSION:2.0
PRODID:-//ChamberMaster//Event Calendar 2.0//EN
METHOD:PUBLISH
X-PUBLISHED-TTL:P3D
REFRESH-INTERVAL:P3D
CALSCALE:GREGORIAN
BEGIN:VEVENT
DTSTART:20200605T013000Z
DTEND:20200605T030000Z
X-MICROSOFT-CDO-ALLDAYEVENT:FALSE
SUMMARY:(Online) Conscious Parenting Circle Presented by Athena Rising
DESCRIPTION:This Conscious Parenting Circle is about providing an inspiring space for parents to be supported and inspired to live a life you love. \n\n\n\n\n\n\nAre you struggling as a parent because you feel like\n\n\n	\n	you aren't doing a good enough job or feeling like a failure as a parent?\n	\n	\n	you can't connect with your children or don't have a good relationship with them?\n	\n	\n	your children won't listen to you?\n	\n	\n	you're exhausted and don't know how to get in control?\n	\n	\n	you've lost who you are?\n	\n\n\nWe will explore how we can make shifts for ourselves. For it is when we transform ourselves that we can then create shifts for our children. This isn't about changing them\, it's about changing how we show up as parents.  If we are not living consciously\, we unknowingly pass down our own fears\, pain\, perceptions and emotional dysfunction. This leads to frustration and dissatisfaction for both parents and children.\n\nMost parenting techniques focus on controlling our children. However\, if we can open up to seeing our children as our spiritual partners we can shift the paradigm of parenting from our wounds to parenting from a place of wholeness. The discussions in this circle will provide you with insight\, ah-ha moments and give you active practices to become more aware of how you can be a better parent for your child\, but also for yourself.\n\nThe foundation of this Circle is based on the transformative book\, The Conscious Parent by Dr. Shefali Tsabary\, PhD. Although you don't have to read the book to participate in the conversation\, you may find it helpful. Here's a link to an interview with Dr. Tsabary so you can get an understanding of the concept of Conscious Parenting.\n\nMEETINGS are on Thursdays at 6:30pm - 8pm\n\nHOSTED BY: Lia Venet \, CHHC\, Connector\, Speaker\, Women's Empowerment Leader\, Life Change Catalyst & Transformation Initiator.\n\nDo you want to connect with like hearted women that have your back without judgement\, comparison and competition? Do you want to feel more confident in speaking your truth? Are you ready to rise together with your sisters in bringing your unique gifts to the world? Come experience a WomanSpeak Circle to see what it's all about. 1st & 3rd Tuesdays at 11am or 1st & 3rd Wednesdays at 6pm. Call Lia at 510-381-5568 or check out her website.\n\n\nCOST: Free to ALL.  To sign up\, please log into the Athena Rising Online Community and RSVP to the event in the online community. AthenaRising.mn.co
X-ALT-DESC;FMTTYPE=text/html:<div>\n<div>\n<div>\n<div>\n<div><span style="background-color:transparent\; color:rgb(0\, 0\, 0)\; font-family:arial\; font-size:11pt">This Conscious Parenting Circle is about providing an inspiring space for parents to be supported and inspired to live a life you love.&nbsp\;</span></div>\n</div>\n</div>\n</div>\n</div>\n\n<div>\n<p><span style="background-color:transparent\; color:rgb(0\, 0\, 0)\; font-family:arial\; font-size:11pt">Are you struggling as a parent because you feel like</span></p>\n\n<ul>\n	<li>\n	<p><span style="background-color:transparent\; font-size:11pt">you aren&rsquo\;t doing a good enough job or feeling like a failure as a parent?</span></p>\n	</li>\n	<li>\n	<p><span style="background-color:transparent\; font-size:11pt">you can&rsquo\;t connect with your children or don&rsquo\;t have a good relationship with them?</span></p>\n	</li>\n	<li>\n	<p><span style="background-color:transparent\; font-size:11pt">your children won&rsquo\;t listen to you?</span></p>\n	</li>\n	<li>\n	<p><span style="background-color:transparent\; font-size:11pt">you&rsquo\;re exhausted and don&rsquo\;t know how to get in control?</span></p>\n	</li>\n	<li>\n	<p><span style="background-color:transparent\; font-size:11pt">you&rsquo\;ve lost who you are?</span></p>\n	</li>\n</ul>\n\n<p><span style="background-color:transparent\; color:rgb(0\, 0\, 0)\; font-family:arial\; font-size:11pt">We will explore how we can make shifts for ourselves. For it is when we transform ourselves that we can then create shifts for our children. This isn&rsquo\;t about changing them\, it&rsquo\;s about changing how we show up as parents.&nbsp\; If we are not living consciously\, we unknowingly pass down our own fears\, pain\, perceptions and emotional dysfunction. This leads to frustration and dissatisfaction for both parents and children.</span></p>\n\n<p><span style="background-color:transparent\; color:rgb(0\, 0\, 0)\; font-family:arial\; font-size:11pt">Most parenting techniques focus on controlling our children. However\, if we can open up to seeing our children as our spiritual partners we can shift the paradigm of parenting from our wounds to parenting from a place of wholeness. The discussions in this circle will provide you with insight\, ah-ha moments and give you active practices to become more aware of how you can be a better parent for your child\, but also for yourself.</span></p>\n\n<p><span style="background-color:transparent\; color:rgb(0\, 0\, 0)\; font-family:arial\; font-size:11pt">The foundation of this Circle is based on the transformative book\, </span><a href="https://www.amazon.com/Conscious-Parent-Transforming-Ourselves-Empowering/dp/1897238452/ref=tmm_pap_swatch_0?_encoding=UTF8&amp\;qid=1581454022&amp\;sr=8-1" style="text-decoration-line: none\;"><span style="background-color:transparent\; color:rgb(17\, 85\, 204)\; font-family:arial\; font-size:11pt">The Conscious Parent</span></a><span style="background-color:transparent\; color:rgb(0\, 0\, 0)\; font-family:arial\; font-size:11pt"> by Dr. Shefali Tsabary\, PhD. Although you don&rsquo\;t have to read the book to participate in the conversation\, you may find it helpful.</span><a href="https://youtu.be/ns4mC00ZzFo" style="text-decoration-line: none\;"><span style="background-color:transparent\; color:rgb(0\, 0\, 0)\; font-family:arial\; font-size:11pt"> </span><span style="background-color:transparent\; color:rgb(17\, 85\, 204)\; font-family:arial\; font-size:11pt">Here&rsquo\;s a link to an interview</span></a><span style="background-color:transparent\; color:rgb(0\, 0\, 0)\; font-family:arial\; font-size:11pt"> with Dr. Tsabary so you can get an understanding of the concept of Conscious Parenting.</span></p>\n\n<p><strong>MEETINGS</strong><span style="background-color:transparent\; color:rgb(0\, 0\, 0)\; font-family:arial\; font-size:11pt"> are on Thursdays at 6:30pm - 8pm</span></p>\n\n<p><strong>HOSTED BY:</strong><span style="background-color:transparent\; color:rgb(0\, 0\, 0)\; font-family:arial\; font-size:11pt"> </span><a href="https://womanspeak.safechkout.net/intro-l-venet" style="text-decoration-line: none\;"><span style="background-color:transparent\; color:rgb(17\, 85\, 204)\; font-family:arial\; font-size:11pt">Lia Venet</span></a><span style="background-color:transparent\; color:rgb(0\, 0\, 0)\; font-family:arial\; font-size:11pt"> \, CHHC\, Connector\, Speaker\, Women&#39\;s Empowerment Leader\, Life Change Catalyst &amp\; Transformation Initiator.</span></p>\n\n<p><span style="background-color:transparent\; color:rgb(0\, 0\, 0)\; font-family:arial\; font-size:11pt">Do you want to connect with like hearted women that have your back without judgement\, comparison and competition? Do you want to feel more confident in speaking your truth? Are you ready to rise together with your sisters in bringing your unique gifts to the world? Come experience a WomanSpeak Circle to see what it&#39\;s all about. 1st &amp\; 3rd Tuesdays at 11am or 1st &amp\; 3rd Wednesdays at 6pm. Call Lia at 510-381-5568 or check out her </span><a href="https://womanspeak.safechkout.net/intro-l-venet" style="text-decoration-line: none\;"><span style="background-color:transparent\; color:rgb(17\, 85\, 204)\; font-family:arial\; font-size:11pt">website</span></a><span style="background-color:transparent\; color:rgb(0\, 0\, 0)\; font-family:arial\; font-size:11pt">.</span></p>\n\n<div>\n<p><strong>COST: </strong><span style="background-color:transparent\; color:rgb(0\, 0\, 0)\; font-family:arial\; font-size:11pt">Free to ALL.&nbsp\; To sign up\, please log into the Athena Rising Online Community and RSVP to the event in the online community. </span><a href="http://athenarising.mn.co" style="text-decoration-line: none\;"><span style="background-color:transparent\; color:rgb(17\, 85\, 204)\; font-family:arial\; font-size:11pt">AthenaRising.mn.co</span></a></p>\n\n<p>&nbsp\;</p>\n</div>\n</div>\n
LOCATION:Athena Rising 4047 First Street Suite 101 Livermore\, CA 94551
UID:e.3178.3063
SEQUENCE:3
DTSTAMP:20260423T182440Z
URL:https://business.livermorechamber.org/events/details/online-conscious-parenting-circle-presented-by-athena-rising-06-04-2020-3063
END:VEVENT

END:VCALENDAR
