BEGIN:VCALENDAR
VERSION:2.0
PRODID:-//ChamberMaster//Event Calendar 2.0//EN
METHOD:PUBLISH
X-PUBLISHED-TTL:P3D
REFRESH-INTERVAL:P3D
CALSCALE:GREGORIAN
BEGIN:VEVENT
DTSTART:20200330T230000Z
DTEND:20200508T020000Z
X-MICROSOFT-CDO-ALLDAYEVENT:FALSE
SUMMARY:ONLINE Teen Money Smart Academy
DESCRIPTION:JUST ADDED!  The Money Boss is now offering an Online Class to help teach teens to avoid debt\, learn to budget\, and build wealth.\n\n\n\nGive your teen the gift of a financial education. Give them something FUN and VALUABLE to do during this time off from school!\n\nThe Money Boss Teen Money Smart Academy could be the difference between earning 100's of thousands of dollars in interest over a lifetime\, rather than paying 100's of thousands of dollars in interest over a lifetime.\n\nIt's all delivered in a LIVE\, online\, highly interactive group format over 6 weeks\, lead by Michelle using curriculum developed by veteran Financial Coaches\, and accompanied by the Money Mavericks game (created by a veteran Financial Coach and Comedian).\n\nHere's How it Works:\n\nWhen: Once a week for 2 hours\, starting the week of March 30th\, 2020 and ending the week of  May 4th\, 2020.  Class options are available on Monday\, Wednesday\, and Thursday evenings.  There are two options: 1) Classes WITH the game simulation software and 2) CURRICULUM Only (no software\, printed materials ONLY)\n\nWhere: Online via Zoom\n\nClass System Requirements: A Mac or PC with Internet Connection\n\nClass Size: To facilitate discussion among all participants\, class sizes will be limited to 15.\n\nTuition: $350 (includes Money Mavericks software\, Student Guide\, Parent Guide\, 6 Online LIVE 2 Hour Discussions with Michelle and Assignments in Between Sessions)\n\nWho it is For: The optimal ages for this course are Juniors and Seniors in High School.  We will be walking teens through scenarios from getting their first job to retirement.  The class is open to ages 16-20 years old.  Please call to discuss if you'd like to discuss an exception.\n\nSiblings:  Households with multiple teens are welcome to sit in and join the discussions.  However\, the software supports only one avatar.  Siblings are encouraged to purchase an additional copy of the Money Mavericks software  (discounted through The Money Boss)\, so they have their own version to play and their own Student Guide to take notes in\, and complete assignments from.\n\nTopics Covered: The 6-Week Course is going to cover a happiness scale aligned with values\, how to look for a job\, how to fill out an I-9 and W-4\, first pay stub review with taxes withheld\, first car purchase\, setting up a personal and business budget\, responsible credit management\, bankruptcy and more.  Topics include "game quizzes".  Students are allowed to fail to learn from mistakes.\n\nWhat if my Teen Has to Miss a Class: If for some reason you cannot attend a Live Call\, all calls will be recorded.  All students will have access to the recordings.\n\nQuestions? \n\nPlease do not hesitate to e-mail: michelle@themoneyboss.org or call (800) 957-2603 if any questions.\n\n \n\nSounds GREAT?!\n\n\n\nENROLL HERE:\n\n\n\nhttps://www.themoneyboss.org/teen-money-smart-academy
X-ALT-DESC;FMTTYPE=text/html:<p><span style="font-size:14px"><strong>JUST ADDED!&nbsp\;</strong></span>&nbsp\;The Money Boss is now offering an&nbsp\;Online Class&nbsp\;to help teach teens to avoid debt\, learn to budget\, and build wealth.<br />\n<br />\nGive your teen the gift of a financial education.&nbsp\;Give them something FUN and VALUABLE to do during this time off from school!</p>\n\n<p>The Money Boss&nbsp\;Teen Money Smart Academy&nbsp\;could be the difference between&nbsp\;earning&nbsp\;100&rsquo\;s of thousands of dollars in interest over a lifetime\, rather than&nbsp\;<em>paying</em>&nbsp\;100&rsquo\;s of thousands of dollars in interest over a lifetime.</p>\n\n<p>It&rsquo\;s all delivered in a LIVE\, online\, highly interactive group format over 6 weeks\, lead by Michelle using curriculum developed by veteran Financial Coaches\, and accompanied by the&nbsp\;<a href="https://moneymavericks.com/discount/MBossCC20" style="box-sizing: border-box\; background-color: transparent\; color: rgb(94\, 168\, 109)\; text-decoration: none\;">Money Mavericks</a>&nbsp\;game (created by a veteran Financial Coach and Comedian).</p>\n\n<h2>Here&rsquo\;s How it Works:</h2>\n\n<p><strong>When:</strong>&nbsp\;Once a week for 2 hours\, starting the week of March 30th\, 2020 and ending the week of &nbsp\;May 4th\, 2020. &nbsp\;Class options are available on Monday\, Wednesday\, and Thursday evenings. &nbsp\;There are two options: 1) Classes WITH the game simulation software and 2) CURRICULUM Only (no software\, printed materials ONLY)</p>\n\n<p><strong>Where:&nbsp\;</strong>Online via Zoom</p>\n\n<p><strong>Class System Requirements:</strong>&nbsp\;A Mac or PC with Internet Connection</p>\n\n<p><strong>Class Size:&nbsp\;</strong>To facilitate discussion among all participants\, class sizes will be limited to 15.</p>\n\n<p><strong>Tuition:</strong>&nbsp\;$350 (includes Money Mavericks software\, Student Guide\, Parent Guide\, 6 Online LIVE 2 Hour Discussions with Michelle and Assignments in Between Sessions)</p>\n\n<p><strong>Who it is For:</strong>&nbsp\;The optimal ages for this course are Juniors and Seniors in High School. &nbsp\;We will be walking teens through scenarios from getting their first job to retirement. &nbsp\;The class is open to ages 16-20 years old. &nbsp\;Please call to discuss if you&rsquo\;d like to discuss an exception.</p>\n\n<p><strong>Siblings:</strong>&nbsp\; Households with multiple teens are welcome to sit in and join the discussions. &nbsp\;However\, the software supports only one avatar. &nbsp\;Siblings are encouraged to purchase an additional copy of the&nbsp\;<a href="https://moneymavericks.com/discount/MBossCC20" style="box-sizing: border-box\; background-color: transparent\; color: rgb(94\, 168\, 109)\; text-decoration: none\;">Money Mavericks software </a>&nbsp\;(discounted through The Money Boss)\, so they have their own version to play and their own Student Guide to take notes in\, and complete assignments from.</p>\n\n<p><strong>Topics Covered:</strong>&nbsp\;The 6-Week Course is going to cover a happiness scale aligned with values\, how to look for a job\, how to fill out an I-9 and W-4\, first pay stub review with taxes withheld\, first car purchase\, setting up a personal and business budget\, responsible credit management\, bankruptcy and more. &nbsp\;Topics include &ldquo\;game quizzes&rdquo\;. &nbsp\;Students are allowed to fail to learn from mistakes.</p>\n\n<p><strong>What if my Teen Has to Miss a Class:</strong>&nbsp\;If for some reason you cannot attend a Live Call\, all calls will be recorded. &nbsp\;All students will have access to the recordings.</p>\n\n<p><strong>Questions?&nbsp\;</strong></p>\n\n<p>Please do not hesitate to e-mail: michelle@themoneyboss.org or call (800) 957-2603 if any questions.</p>\n\n<p>&nbsp\;</p>\n\n<h2>Sounds GREAT?!<br />\n<br />\nENROLL HERE:<br />\n<br />\nhttps://www.themoneyboss.org/teen-money-smart-academy</h2>\n
LOCATION:Online via ZOOM.
UID:e.3178.3050
SEQUENCE:3
DTSTAMP:20260423T214156Z
URL:https://business.livermorechamber.org/events/details/online-teen-money-smart-academy-3050
END:VEVENT

END:VCALENDAR
