BEGIN:VCALENDAR
VERSION:2.0
PRODID:-//ChamberMaster//Event Calendar 2.0//EN
METHOD:PUBLISH
X-PUBLISHED-TTL:P3D
REFRESH-INTERVAL:P3D
CALSCALE:GREGORIAN
BEGIN:VEVENT
DTSTART;VALUE=DATE:20191013
DTEND;VALUE=DATE:20191123
TRANSP:TRANSPARENT
X-MICROSOFT-CDO-ALLDAYEVENT:TRUE
SUMMARY:POINSETTIAS FOR THE HOLIDAYS
DESCRIPTION:POINSETTIAS FOR THE HOLIDAYS\nAssistance League of Amador Valley is sponsoring a poinsettia sale for the holidays.  \n\n\n\nThe poinsettias come from Duarte Nursery in Modesto and are absolutely gorgeous.  Some of our members still have them from last year.  They are beautifully packaged in colored foil sleeves and are only $16 each. \n\n\n\nProceeds from this sale will go towards our programs such as school clothing for children in need\, and Food for Families\, which provides food to a local food bank year-round.\n\n\n\nThese beautiful poinsettias are a great gift idea and perfect to brighten up  your holiday home or office. \n\nOrder one for:\n\n\n	Yourself\n	Your neighbors\n	Friends\n	Family members\n	And hostess gifts\n\nOrder Details:\n\n\n	Color Choices:  Red or Pink\n	Size Dimensions: 6 1/2" Pots and 18" Tall\n\n\nPrice: $16 each
X-ALT-DESC;FMTTYPE=text/html:<h1 style="text-align:center"><span style="color:#444444"><span style="font-size:13.5pt">POINSETTIAS FOR THE HOLIDAYS</span></span></h1>\n<span style="color:#333333"><span style="font-family:arial\,sans-serif">Assistance League of Amador Valley is sponsoring a poinsettia sale for the holidays.&nbsp\;&nbsp\;<br />\n<br />\nThe poinsettias come from Duarte Nursery in Modesto and are absolutely gorgeous. &nbsp\;Some of our members still have them from last year.&nbsp\; They are beautifully packaged in colored foil sleeves and are only $16 each.&nbsp\;<br />\n<br />\nProceeds from this sale will go towards our programs such as school clothing for children&nbsp\;in need\, and Food for Families\, which provides food to a local food bank year-round.<br />\n<br />\nThese beautiful poinsettias are a great gift idea and perfect to brighten up &nbsp\;your holiday home or office.&nbsp\;<br />\nOrder one for:</span></span>\n\n<ul style="list-style-type:circle">\n	<li><span style="color:#333333"><span style="font-family:arial\,sans-serif">Yourself</span></span></li>\n	<li><span style="color:#333333"><span style="font-family:arial\,sans-serif">Your neighbors</span></span></li>\n	<li><span style="color:#333333"><span style="font-family:arial\,sans-serif">Friends</span></span></li>\n	<li><span style="color:#333333"><span style="font-family:arial\,sans-serif">Family members</span></span></li>\n	<li><span style="color:#333333"><span style="font-family:arial\,sans-serif">And hostess gifts</span></span></li>\n</ul>\n<strong><span style="color:black"><span style="font-family:arial\,sans-serif">Order Details:</span></span></strong>\n\n<ul style="list-style-type:circle">\n	<li><strong><span style="color:black"><span style="font-family:arial\,sans-serif">Color Choices:&nbsp\;</span></span></strong><span style="color:black"><span style="font-family:arial\,sans-serif">&nbsp\;Red or Pink</span></span></li>\n	<li><strong><span style="color:black"><span style="font-family:arial\,sans-serif">Size Dimensions:&nbsp\;</span></span></strong><span style="color:#333333"><span style="font-family:arial\,sans-serif">6 1/2&quot\; Pots and 18&quot\; Tall</span></span></li>\n</ul>\n\n<p><strong><span style="color:black"><span style="font-family:arial\,sans-serif">Price:&nbsp\;</span></span></strong><span style="color:black"><span style="font-family:arial\,sans-serif">$16 each</span></span></p>\n
LOCATION:Order your poinsettias online by clicking HERE. Pick up on either Fri. Dec. 6th or Sat. Dec 7th 10am-2pm 1181 Quarry Lane\, Suite 400\, Pleasanton.
UID:e.3178.2873
SEQUENCE:3
DTSTAMP:20260424T050604Z
URL:https://business.livermorechamber.org/events/details/poinsettias-for-the-holidays-2873
END:VEVENT

END:VCALENDAR
