BEGIN:VCALENDAR
VERSION:2.0
PRODID:-//ChamberMaster//Event Calendar 2.0//EN
METHOD:PUBLISH
X-PUBLISHED-TTL:P3D
REFRESH-INTERVAL:P3D
CALSCALE:GREGORIAN
BEGIN:VEVENT
DTSTART:20260111T170000Z
DTEND:20260111T210000Z
X-MICROSOFT-CDO-ALLDAYEVENT:FALSE
SUMMARY:Pop--up at Johnny Fly featuring Rose & Co. Hatbar
DESCRIPTION:What better way to start 2026 than with the unique styles of a custom hat and a pair of Johnny Fly shades?  We will BOTH be at 156 S. J Street in Livermore this Sunday\, January 11th from 9 to 1!  New year\, new look!  See you there!
X-ALT-DESC;FMTTYPE=text/html:<span style="font-size:16px\;">What better way to start 2026 than with the unique styles of a custom hat and a pair of Johnny Fly shades?&nbsp\; We will BOTH be at 156 S. J Street in Livermore this Sunday\, January 11th from 9 to 1!&nbsp\; New year\, new look!&nbsp\; See you there!</span>
LOCATION:Johnny Fly 156 S. J Street Livermore\, CA 94550
UID:e.3178.8510
SEQUENCE:3
DTSTAMP:20260421T143753Z
URL:https://business.livermorechamber.org/events/details/pop-up-at-johnny-fly-featuring-rose-co-hatbar-8510
END:VEVENT

END:VCALENDAR
