BEGIN:VCALENDAR
VERSION:2.0
PRODID:-//ChamberMaster//Event Calendar 2.0//EN
METHOD:PUBLISH
X-PUBLISHED-TTL:P3D
REFRESH-INTERVAL:P3D
CALSCALE:GREGORIAN
BEGIN:VEVENT
DTSTART:20200314T000000Z
DTEND:20200314T040000Z
X-MICROSOFT-CDO-ALLDAYEVENT:FALSE
SUMMARY:POSTPONED: Grand Opening & Ribbon Cutting Celebration - Elevation LVK (Airport Restaurant)
DESCRIPTION:POSTPONED: NEW DATE TO BE DETERMINED!\n\nGrand Opening and Ribbon Cutting Celebration to welcome Elevation LVK to Livermore Valley Chamber of Commerce and the community.
X-ALT-DESC;FMTTYPE=text/html:<strong><span style="color:#FF0000\;">POSTPONED: NEW DATE TO BE DETERMINED!</span></strong><br />\nGrand Opening and Ribbon Cutting Celebration to welcome Elevation LVK to Livermore Valley Chamber of Commerce and the community.
LOCATION:Elevation LVK (Airport Restaurant) Livermore Municipal Airport 682 Terminal Circle Livermore\, CA 94551
UID:e.3178.3036
SEQUENCE:3
DTSTAMP:20260423T231629Z
URL:https://business.livermorechamber.org/events/details/postponed-grand-opening-ribbon-cutting-celebration-elevation-lvk-airport-restaurant-3036
END:VEVENT

END:VCALENDAR
