BEGIN:VCALENDAR
VERSION:2.0
PRODID:-//ChamberMaster//Event Calendar 2.0//EN
METHOD:PUBLISH
X-PUBLISHED-TTL:P3D
REFRESH-INTERVAL:P3D
CALSCALE:GREGORIAN
BEGIN:VEVENT
DTSTART:20211217T203000Z
DTEND:20211217T210000Z
X-MICROSOFT-CDO-ALLDAYEVENT:FALSE
SUMMARY:POSTPONED - Ribbon Cutting - Granite Insurance Brokers I E-COMP I CoverEase
DESCRIPTION:POSTPONED Ribbon Cutting & Open House
X-ALT-DESC;FMTTYPE=text/html:POSTPONED Ribbon Cutting &amp\; Open House
LOCATION:360 Lindbergh Ave Livermore\, CA 94550
UID:e.3178.4437
SEQUENCE:3
DTSTAMP:20260421T233514Z
URL:https://business.livermorechamber.org/events/details/postponed-ribbon-cutting-granite-insurance-brokers-i-e-comp-i-coverease-4437
END:VEVENT

END:VCALENDAR
