BEGIN:VCALENDAR
VERSION:2.0
PRODID:-//ChamberMaster//Event Calendar 2.0//EN
METHOD:PUBLISH
X-PUBLISHED-TTL:P3D
REFRESH-INTERVAL:P3D
CALSCALE:GREGORIAN
BEGIN:VEVENT
DTSTART:20260429T230000Z
DTEND:20260430T010000Z
X-MICROSOFT-CDO-ALLDAYEVENT:FALSE
SUMMARY:PrimeLife Event
DESCRIPTION:Meet local Pros who Make Life Easier at a Happy Appy hour! \n\nSkip the online searching Meet the local experts who can actually help you make your next move   on your terms.\n\nWhether you're preparing for retirement\, right-sizing your space\, starting a new business\, or finally focusing on your health or life's passion  this casual evening brings together trusted local professionals\, ready to talk\, answer questions\, and share real guidance. No sales pressure. Just good conversation & free appetizers.\n\n??We're a close-knit group of professionals who believe in supporting one another   and we'd love to welcome you into our community. Let's build connections\, share ideas\, and make our village even stronger together   because hey\, you don't know what you don't know!\n\n?RSVP to unlock Special deals from Select Vendors. And if you're having a great time\, stick around for Canyon Club Trivia Night at 6:30! Because who doesn't love a good brain teaser after happy hour\n\nSee our Members page to learn more about us!
X-ALT-DESC;FMTTYPE=text/html:<p><span style="font-size:16px\;"><a href="https://www.eastbaybusinessexchange.com/primelife"><span style="color:rgb(7\, 139\, 168)"><strong>Meet local Pros who Make Life Easier at a Happy Appy hour!&nbsp\;</strong></span></a></span></p>\n\n<p><span style="font-size:16px\;"><span style="color:rgb(0\, 0\, 0)">Skip the online searching&mdash\;Meet the local experts who can actually help you make your next move &mdash\; on your terms.</span></span></p>\n\n<p><span style="font-size:16px\;"><span style="color:rgb(0\, 0\, 0)">Whether you&rsquo\;re preparing for retirement\, right-sizing your space\, starting a new business\, or finally focusing on your health or life&rsquo\;s passion&shy\;&mdash\;this casual evening brings together trusted local professionals\, ready to talk\, answer questions\, and share real guidance. No sales pressure. Just good conversation &amp\; free appetizers.</span></span></p>\n\n<p><span style="font-size:16px\;">??<span style="color:rgb(0\, 0\, 0)">We&rsquo\;re a close-knit group of professionals who believe in supporting one another &mdash\; and we&rsquo\;d love to welcome you into our community. Let&rsquo\;s build connections\, share ideas\, and make our village even stronger together &mdash\; because hey\,&nbsp\;</span><em style="color:rgb(0\, 0\, 0)">you don&rsquo\;t know what you don&rsquo\;t know!</em></span></p>\n\n<p><span style="font-size:16px\;">?<a href="https://www.eastbaybusinessexchange.com/primelife"><span style="color:rgb(121\, 151\, 25)"><strong>RSVP</strong></span></a><span style="color:rgb(0\, 0\, 0)"><a href="https://www.eastbaybusinessexchange.com/primelife">&nbsp\;</a>to unlock&nbsp\;</span><span style="color:rgb(121\, 151\, 25)"><strong>Special deals from Select Vendors</strong></span><span style="color:rgb(0\, 0\, 0)">. And if you&rsquo\;re having a great time\, stick around for Canyon Club Trivia Night at 6:30! Because who doesn&rsquo\;t love a good brain teaser after happy hour</span></span></p>\n\n<p><span style="font-size:16px\;"><span style="color:rgb(121\, 151\, 25)"><a class="wixui-rich-text__text" href="https://www.eastbaybusinessexchange.com/members" style="vertical-align: baseline\; background: 0px 0px\; border: 0px\; outline: 0px\; margin: 0px\; padding: 0px\; cursor: pointer\; text-decoration: none\; color: inherit\;" target="_self"><u>See our Members page to learn more about us!</u></a></span></span></p>\n
LOCATION:Canyon Club Brewery/Restaurant 204 Sycamore Valley Rd W. Danville
UID:e.3178.8632
SEQUENCE:3
DTSTAMP:20260423T042910Z
URL:https://business.livermorechamber.org/events/details/primelife-event-8632
END:VEVENT

END:VCALENDAR
