BEGIN:VCALENDAR
VERSION:2.0
PRODID:-//ChamberMaster//Event Calendar 2.0//EN
METHOD:PUBLISH
X-PUBLISHED-TTL:P3D
REFRESH-INTERVAL:P3D
CALSCALE:GREGORIAN
BEGIN:VEVENT
DTSTART:20200214T030000Z
DTEND:20200214T050000Z
X-MICROSOFT-CDO-ALLDAYEVENT:FALSE
SUMMARY:Professional Netowrking Event
DESCRIPTION:Come hear our story!  Network with business professionals that are part of a growing and underserved society.  We are passionate about financial literacy!  We offer service and opportunity around improving financial paths for families and small and growing businesses.  Come hear a truly unique and amazing story of American business!
X-ALT-DESC;FMTTYPE=text/html:<span style="font-family:open sans\,verdana\,geneva\,sans-serif\; font-size:15px">Come hear our story! &nbsp\;Network with business professionals that are part of a growing and underserved society. &nbsp\;We are passionate about financial literacy! &nbsp\;We offer service and opportunity around improving financial paths for families and small and growing businesses. &nbsp\;Come hear a truly unique and amazing story of American business!</span>
LOCATION:Daybreak Labs 1911 2nd St Livermore\, CA 94551
UID:e.3178.2981
SEQUENCE:3
DTSTAMP:20260424T003616Z
URL:https://business.livermorechamber.org/events/details/professional-netowrking-event-2981
END:VEVENT

END:VCALENDAR
