BEGIN:VCALENDAR
VERSION:2.0
PRODID:-//ChamberMaster//Event Calendar 2.0//EN
METHOD:PUBLISH
X-PUBLISHED-TTL:P3D
REFRESH-INTERVAL:P3D
CALSCALE:GREGORIAN
BEGIN:VEVENT
DTSTART:20260418T170000Z
DTEND:20260419T000000Z
X-MICROSOFT-CDO-ALLDAYEVENT:FALSE
SUMMARY:Quest Science Center's Tri-Valley Innovation Fair
DESCRIPTION:Quest Science Center presents the Tri-Valley Innovation Fair on April 18. The Innovation Fair is the Tri-Valley's largest free\, hands-on celebration of innovation. Thousands of families explore interactive exhibits\, meet real-world professionals\, and experience the power of curiosity together.\n\n\n\nThrough cross-sector partnership\, youth leadership\, and equitable access\, Quest Science Center brings our community together to inspire the next generation of innovators.\n\n\n\nThere are still exhibitor opportunities available\, please visit:https://quest-science.org/tri-valley-innovation-fair-exhibit/ for more information.
X-ALT-DESC;FMTTYPE=text/html:<span style="color: rgb(0\, 0\, 0)\; font-family: cambria\, serif\;"><span style="font-size:16px\;">Quest Science Center presents the Tri-Valley Innovation Fair on April 18. The Innovation Fair is the Tri-Valley&rsquo\;s largest <strong>free</strong>\, hands-on celebration of innovation. Thousands of families explore interactive exhibits\, meet real-world professionals\, and experience the power of curiosity together.<br />\n<br />\nThrough cross-sector partnership\, youth leadership\, and equitable access\, Quest Science Center brings our community together to inspire the next generation of innovators.</span><br />\n<br />\n<strong>There are still exhibitor opportunities available\, please visit:</strong></span><strong>https://quest-science.org/tri-valley-innovation-fair-exhibit/&nbsp\;<span style="color: rgb(0\, 0\, 0)\; font-family: cambria\, serif\;">for more information.</span></strong>
LOCATION:Alameda County Fairgrounds Pleasanton\, CA
UID:e.3178.8573
SEQUENCE:3
DTSTAMP:20260422T164626Z
URL:https://business.livermorechamber.org/events/details/quest-science-center-s-tri-valley-innovation-fair-8573
END:VEVENT

END:VCALENDAR
